BEGIN:VCALENDAR
PRODID:NingEventWidget-v1
VERSION:2.0
METHOD:PUBLISH
BEGIN:VTIMEZONE
TZID:Europe/London
X-LIC-LOCATION:Europe/London
BEGIN:DAYLIGHT
TZOFFSETFROM:+0000
TZOFFSETTO:+0100
TZNAME:BST
DTSTART:19700329T010000
RRULE:FREQ=YEARLY;BYMONTH=3;BYDAY=-1SU
END:DAYLIGHT
BEGIN:STANDARD
TZOFFSETFROM:+0100
TZOFFSETTO:+0000
TZNAME:GMT
DTSTART:19701025T020000
RRULE:FREQ=YEARLY;BYMONTH=10;BYDAY=-1SU
END:STANDARD
END:VTIMEZONE
BEGIN:VEVENT
UID:4626108:Event:100785
DTSTAMP:20260422T014105Z
SUMMARY:4Networking Reigate and Redhill Breakfast
DESCRIPTION:4Networking Breakfast Event at the Nutfield Priory Hotel &
  Spa\n\nBusiness Breakfast at its best - lots of time for open network
 ing, three one-to-one meetings, everyone gets to pitch for 40 seconds,
  and the 4Sight, an insightful presentation by a member (not a sales p
 itch)...\nNutfield Priory is part of the Handpicked Hotels group, and 
 is a first class networking venue - one of the plushest in the area - 
 so book in for some R&R on a Wednesday morning!\nAs ever, the event wi
 ll be 50% business & 50% social... and it works!   \nCOST: £15 e
 vent fee including breakfast\nBOOKING: Please CLICK HERE to book\nMA
 P\n\nFor more information visit https://networkinginsurrey.co.uk/event
 s/4networking-reigate-amp-redhill-breakfast-1
DTSTART;TZID=Europe/London:20181010T080000
DTEND;TZID=Europe/London:20181010T100000
CATEGORIES:business, networking
LOCATION:Nutfield Priory
WEBSITE:https://www.google.co.uk/maps/place/Nutfield+Priory+Hotel+%26+
 Spa/@51.2357417,-0.1419669,15z
URL:https://www.google.co.uk/maps/place/Nutfield+Priory+Hotel+%26+Spa/
 @51.2357417,-0.1419669,15z
CONTACT:
ORGANIZER;CN="Richard Peers":https://networkinginsurrey.co.uk/profile/
 RichardPeers
ATTACH;FMTTYPE="image/jpeg":http://storage.ning.com/topology/rest/1.0/
 file/get/2591464279?profile=original
ATTENDEE;ROLE=REQ-PARTICIPANT;PARTSTAT=ACCEPTED;RSVP=TRUE;CN="Richard 
 Peers":https://networkinginsurrey.co.uk/profile/RichardPeers
END:VEVENT
END:VCALENDAR
