BEGIN:VCALENDAR
PRODID:NingEventWidget-v1
VERSION:2.0
METHOD:PUBLISH
BEGIN:VTIMEZONE
TZID:Europe/London
X-LIC-LOCATION:Europe/London
BEGIN:DAYLIGHT
TZOFFSETFROM:+0000
TZOFFSETTO:+0100
TZNAME:BST
DTSTART:19700329T010000
RRULE:FREQ=YEARLY;BYMONTH=3;BYDAY=-1SU
END:DAYLIGHT
BEGIN:STANDARD
TZOFFSETFROM:+0100
TZOFFSETTO:+0000
TZNAME:GMT
DTSTART:19701025T020000
RRULE:FREQ=YEARLY;BYMONTH=10;BYDAY=-1SU
END:STANDARD
END:VTIMEZONE
BEGIN:VEVENT
UID:4626108:Event:73452
DTSTAMP:20260419T170057Z
SUMMARY:4Networking Breakfast, Farnham
DESCRIPTION:4Networking Breakfast at the Princess Royal, Farnham  A fr
 iendly local group who meet fortnightly and the next meeting is on Wed
 nesday 24June. We have Keith MacDonald doing our 4sight entitled A Fai
 ry Tale. Keith is a fantastic story teller and I have no doubt that th
 is tale will include wills & legal services in there somewhere. So why
  not join us to find out more ?  We are keen to help each other's busi
 ness and have fun doing it. For more information call Sanchia on 01252
  759 480 COST: £12 meeting fee including breakfast BOOKING: Please CL
 ICK HERE to book MAP\n\nFor more information visit https://networkingi
 nsurrey.co.uk/events/4networking-farnham
DTSTART;TZID=Europe/London:20150624T080000
DTEND;TZID=Europe/London:20150624T100000
CATEGORIES:networking, breakfast
LOCATION:Princess Royal, GU10 1NX
WEBSITE:Http://www.4networking.biz
URL:Http://www.4networking.biz
CONTACT:01252 759480
ORGANIZER;CN="Sanchia Gallifent":https://networkinginsurrey.co.uk/prof
 ile/SanchiaGallifent
ATTACH;FMTTYPE="image/jpeg":http://storage.ning.com/topology/rest/1.0/
 file/get/2591443299?profile=original
ATTENDEE;ROLE=REQ-PARTICIPANT;PARTSTAT=ACCEPTED;RSVP=TRUE;CN="Sanchia 
 Gallifent":https://networkinginsurrey.co.uk/profile/SanchiaGallifent
END:VEVENT
END:VCALENDAR
