BEGIN:VCALENDAR
PRODID:NingEventWidget-v1
VERSION:2.0
METHOD:PUBLISH
BEGIN:VTIMEZONE
TZID:Europe/London
X-LIC-LOCATION:Europe/London
BEGIN:DAYLIGHT
TZOFFSETFROM:+0000
TZOFFSETTO:+0100
TZNAME:BST
DTSTART:19700329T010000
RRULE:FREQ=YEARLY;BYMONTH=3;BYDAY=-1SU
END:DAYLIGHT
BEGIN:STANDARD
TZOFFSETFROM:+0100
TZOFFSETTO:+0000
TZNAME:GMT
DTSTART:19701025T020000
RRULE:FREQ=YEARLY;BYMONTH=10;BYDAY=-1SU
END:STANDARD
END:VTIMEZONE
BEGIN:VEVENT
UID:4626108:Event:60381
DTSTAMP:20260419T154017Z
SUMMARY:Relaunch: 4Networking Breakfast, Farnham
DESCRIPTION:4Networking Breakfast Relaunch at the Princess Royal\n\nCo
 me and join us for our re launch business networking Breakfast.\n4Netw
 orking gives you the freedom to network anywhere, anytime!\nAt each me
 eting we set up an ideal mix of networkers. There are people who will 
 attend this group regularly plus we’ll have new visitors AND visitin
 g Passporters from other groups. Our meetings are relaxed, friendly an
 d open to everyone. They are also highly productive – during the mee
 ting you will have  three 10 minute 1-2-1 business appointments wi
 th people you choose!\nCOST: £12 meeting fee including breakfast\nB
 OOKING -  Please CLICK HER£ to book or call Sanchia – 0845 058 75
 08.\nMAP\nThere's a large car park  at venue\n-----------------------
 --------------------------------------------------\nTo find out more a
 bout 4Networking please visit the 4N website \n\n\nFor more informat
 ion visit https://networkinginsurrey.co.uk/events/4networking-farnham-
 1
DTSTART;TZID=Europe/London:20130918T080000
DTEND;TZID=Europe/London:20130918T100000
CATEGORIES:networking, business, breakfast
LOCATION:The Princess Royal - GU10 1NX
WEBSITE:http://theprincessroyal.co.uk/
URL:http://theprincessroyal.co.uk/
CONTACT:08450587508
ORGANIZER;CN="Sanchia Gallifent":https://networkinginsurrey.co.uk/prof
 ile/SanchiaGallifent
ATTACH;FMTTYPE="image/jpeg":http://storage.ning.com/topology/rest/1.0/
 file/get/2591380309?profile=original
ATTENDEE;ROLE=REQ-PARTICIPANT;PARTSTAT=ACCEPTED;RSVP=TRUE;CN="Sanchia 
 Gallifent":https://networkinginsurrey.co.uk/profile/SanchiaGallifent
END:VEVENT
END:VCALENDAR
