BEGIN:VCALENDAR
PRODID:NingEventWidget-v1
VERSION:2.0
METHOD:PUBLISH
BEGIN:VTIMEZONE
TZID:Europe/London
X-LIC-LOCATION:Europe/London
BEGIN:DAYLIGHT
TZOFFSETFROM:+0000
TZOFFSETTO:+0100
TZNAME:BST
DTSTART:19700329T010000
RRULE:FREQ=YEARLY;BYMONTH=3;BYDAY=-1SU
END:DAYLIGHT
BEGIN:STANDARD
TZOFFSETFROM:+0100
TZOFFSETTO:+0000
TZNAME:GMT
DTSTART:19701025T020000
RRULE:FREQ=YEARLY;BYMONTH=10;BYDAY=-1SU
END:STANDARD
END:VTIMEZONE
BEGIN:VEVENT
UID:4626108:Event:6118
DTSTAMP:20260422T161637Z
SUMMARY:4Networking Christmas Social Evening, Guildford
DESCRIPTION:4Networking Christmas Social at the White House\nOpen invi
 tation from Paul Sampson...\n\"We’re not holding a 4N breakfast at G
 uildford on Friday 24th, Christmas Eve.\nTherefore, as a social gather
 ing, on Thursday 23rd, we’re meeting at the White House pub in Guild
 ford, at the bottom of the High St.\nAll are very welcome - just turn 
 up, no need to let us know this time!\nWe’ll be there at 6.30 until 
 around 8.30 when we’ll head off to find a suitable Curry in town. I
 f you’re late arriving at the pub, we’ll leave a message there as 
 to which curry house we’re going to, or take my number,  07739 884
 471 or Neil’s 07967 077373\nThe pub is .2 miles from the station… 
 even I can stagger that!\nMAP (Opposite the George Abbot pub)\nVENUE\
 n\nFor more information visit https://networkinginsurrey.co.uk/events/
 4networking-christmas-social
DTSTART;TZID=Europe/London:20101223T180000
DTEND;TZID=Europe/London:20101223T200000
CATEGORIES:social, evening, guildford
LOCATION:The White House
WEBSITE:
URL:
CONTACT:Paul 07739 884471  Neil 07967 077373
ORGANIZER:Paul Sampson. 4N
ATTACH;FMTTYPE="image/jpeg":http://storage.ning.com/topology/rest/1.0/
 file/get/2591377319?profile=original
ATTENDEE;ROLE=REQ-PARTICIPANT;PARTSTAT=ACCEPTED;RSVP=TRUE;CN="Keith Gr
 over, NiS Founder":https://networkinginsurrey.co.uk/profile/KeithGrove
 r
END:VEVENT
END:VCALENDAR
