BEGIN:VCALENDAR
PRODID:NingEventWidget-v1
VERSION:2.0
METHOD:PUBLISH
BEGIN:VTIMEZONE
TZID:Europe/London
X-LIC-LOCATION:Europe/London
BEGIN:DAYLIGHT
TZOFFSETFROM:+0000
TZOFFSETTO:+0100
TZNAME:BST
DTSTART:19700329T010000
RRULE:FREQ=YEARLY;BYMONTH=3;BYDAY=-1SU
END:DAYLIGHT
BEGIN:STANDARD
TZOFFSETFROM:+0100
TZOFFSETTO:+0000
TZNAME:GMT
DTSTART:19701025T020000
RRULE:FREQ=YEARLY;BYMONTH=10;BYDAY=-1SU
END:STANDARD
END:VTIMEZONE
BEGIN:VEVENT
UID:4626108:Event:73370
DTSTAMP:20260420T054424Z
SUMMARY:4Networking Breakfast, Camberley
DESCRIPTION:4Networking Breakfast at the Windlesham Golf Club, Bagshot
   A friendly local group who meet fortnightly and the next meeting is 
 on Wednesday 17th June.\n We have David Cane doing our 4sight entitled
  Do you have an Exit Strategy?\n David specialises in the valuation o
 f private company shares.He helps clients prepare their companies for 
 sale for the best possible price. - \nSo why not join us to find out 
 more ?  We are keen to help each other's business and have fun doing i
 t. For more information call John Edward on 01483 286850\nCOST: £12 m
 eeting fee including breakfast BOOKING: Please CLICK HERE to book MAP
 \n\nFor more information visit https://networkinginsurrey.co.uk/events
 /4networking-camberley
DTSTART;TZID=Europe/London:20150617T080000
DTEND;TZID=Europe/London:20150617T100000
CATEGORIES:networking, breakfast
LOCATION:Windlesham Golf Club,GU19 5HY
WEBSITE:http://www.4networking.biz/
URL:http://www.4networking.biz/
CONTACT:01483 286850
ORGANIZER;CN="John Edward":https://networkinginsurrey.co.uk/profile/Jo
 hnEdward
ATTACH;FMTTYPE="image/jpeg":http://storage.ning.com/topology/rest/1.0/
 file/get/2591442762?profile=original
ATTENDEE;ROLE=REQ-PARTICIPANT;PARTSTAT=ACCEPTED;RSVP=TRUE;CN="John Edw
 ard":https://networkinginsurrey.co.uk/profile/JohnEdward
END:VEVENT
END:VCALENDAR
