BEGIN:VCALENDAR
PRODID:NingEventWidget-v1
VERSION:2.0
METHOD:PUBLISH
BEGIN:VTIMEZONE
TZID:Europe/London
X-LIC-LOCATION:Europe/London
BEGIN:DAYLIGHT
TZOFFSETFROM:+0000
TZOFFSETTO:+0100
TZNAME:BST
DTSTART:19700329T010000
RRULE:FREQ=YEARLY;BYMONTH=3;BYDAY=-1SU
END:DAYLIGHT
BEGIN:STANDARD
TZOFFSETFROM:+0100
TZOFFSETTO:+0000
TZNAME:GMT
DTSTART:19701025T020000
RRULE:FREQ=YEARLY;BYMONTH=10;BYDAY=-1SU
END:STANDARD
END:VTIMEZONE
BEGIN:VEVENT
UID:4626108:Event:1760
DTSTAMP:20260426T050208Z
SUMMARY:4Networking Business Breakfast, Woking
DESCRIPTION:4Networking Business Breakfast\n\nA 4Networking business b
 reakfast is the most effective way to promote your business and servic
 es through networking... our dynamic format allows you to quickly buil
 d contacts, leads and win new business.\n4Sight Speaker - John Edward 
 (Bestmortgage4u) Dach, who said mortgages were boring?\nMost of us hav
 e one, each of us wants to get shot of it. Beyond that is a world of i
 ntrigue about where, when and how. John Edward will explain all!\nCOST
  £10.00 per person MEMBERS BOOK HERE\nNon-members can register for FR
 EE online membership to come along for a trial meeting and enjoy 'the 
 4Networking experience' - give it a go!\n>VENUE\nMAP & DIRECTIONS\n---
 -------------------------------------\n4Networking has 24,000 members 
 and 200 linked breakfast groups around the country. Following breakfas
 t and the 4Sight speaker, you'll then have 3, 10 minute appointments, 
 these 1-1s work brilliantly and allow you to fast track new business r
 elationships. The group has an unstuffy culture, people attend because
  they want to, not because they have to. Members can attend any group 
 in the country and anyone is welcome. See details on our website www.4
 networking.biz\n\nFor more information visit https://networkinginsurre
 y.co.uk/events/4networking-business-breakfast-8
DTSTART;TZID=Europe/London:20100415T080000
DTEND;TZID=Europe/London:20100415T100000
CATEGORIES:breakfast, woking, 4networking
LOCATION:The Talbot, Ripley, Nr Woking GU23 6BB
WEBSITE:http://www.4networking.biz/events/10362.htm
URL:http://www.4networking.biz/events/10362.htm
CONTACT:
ORGANIZER:Paul Sampson
ATTACH;FMTTYPE="image/jpeg":http://storage.ning.com/topology/rest/1.0/
 file/get/2591378301?profile=original
ATTENDEE;ROLE=REQ-PARTICIPANT;PARTSTAT=ACCEPTED;RSVP=TRUE;CN="Derek Wi
 lliamson":https://networkinginsurrey.co.uk/profile/DerekWilliamson
END:VEVENT
END:VCALENDAR
