BEGIN:VCALENDAR
PRODID:NingEventWidget-v1
VERSION:2.0
METHOD:PUBLISH
BEGIN:VTIMEZONE
TZID:Europe/London
X-LIC-LOCATION:Europe/London
BEGIN:DAYLIGHT
TZOFFSETFROM:+0000
TZOFFSETTO:+0100
TZNAME:BST
DTSTART:19700329T010000
RRULE:FREQ=YEARLY;BYMONTH=3;BYDAY=-1SU
END:DAYLIGHT
BEGIN:STANDARD
TZOFFSETFROM:+0100
TZOFFSETTO:+0000
TZNAME:GMT
DTSTART:19701025T020000
RRULE:FREQ=YEARLY;BYMONTH=10;BYDAY=-1SU
END:STANDARD
END:VTIMEZONE
BEGIN:VEVENT
UID:4626108:Event:1750
DTSTAMP:20260425T231330Z
SUMMARY:4Networking Business Breakfast, Epsom
DESCRIPTION:Making the Most of the 4N Community\n\nA 4Networking busin
 ess breakfast is the most effective way to promote your business and s
 ervices through networking... our dynamic format allows you to quickly
  build contacts, leads and win new business.\n4Sight Speaker - Ian Cro
 cker - Making the Most of the 4N Community Ian is Senior Consultant at
  Absolute Learning who are Learning & Development Specialists bringing
  a wealth of experience to helping companies, teams and individuals to
  achieve more.\nCOST £10.00 per person MEMBERS BOOK HERE\nNon-members
  can register for FREE online membership to come along for a trial mee
 ting (cost £10) and enjoy 'the 4Networking experience' - give it a go
 !\n----------------------------------------\n4Networking has 24,000 me
 mbers and 200 linked breakfast groups around the country. Following br
 eakfast and the 4Sight speaker, you'll then have 3, 10 minute appointm
 ents, these 1-1s work brilliantly and allow you to fast track new busi
 ness relationships. The group has an unstuffy culture, people attend b
 ecause they want to, not because they have to. Members can attend any 
 group in the country and anyone is welcome. See details on our website
  www.4networking.biz\n\nFor more information visit https://networkingi
 nsurrey.co.uk/events/4networking-business-breakfast-7
DTSTART;TZID=Europe/London:20100414T080000
DTEND;TZID=Europe/London:20100414T100000
CATEGORIES:breakfast, epsom, 4networking
LOCATION:The Haywain, Epsom KT18 7LB
WEBSITE:http://www.4networking.biz/events/10329.htm
URL:http://www.4networking.biz/events/10329.htm
CONTACT:
ORGANIZER:Magic Friedman
ATTACH;FMTTYPE="image/jpeg":http://storage.ning.com/topology/rest/1.0/
 file/get/2591379163?profile=original
ATTENDEE;ROLE=REQ-PARTICIPANT;PARTSTAT=ACCEPTED;RSVP=TRUE;CN="Derek Wi
 lliamson":https://networkinginsurrey.co.uk/profile/DerekWilliamson
ATTENDEE;ROLE=REQ-PARTICIPANT;PARTSTAT=TENTATIVE;RSVP=TRUE;CN="Heidi R
 ice":https://networkinginsurrey.co.uk/profile/HeidiRice
END:VEVENT
END:VCALENDAR
