BEGIN:VCALENDAR
PRODID:NingEventWidget-v1
VERSION:2.0
METHOD:PUBLISH
BEGIN:VTIMEZONE
TZID:Europe/London
X-LIC-LOCATION:Europe/London
BEGIN:DAYLIGHT
TZOFFSETFROM:+0000
TZOFFSETTO:+0100
TZNAME:BST
DTSTART:19700329T010000
RRULE:FREQ=YEARLY;BYMONTH=3;BYDAY=-1SU
END:DAYLIGHT
BEGIN:STANDARD
TZOFFSETFROM:+0100
TZOFFSETTO:+0000
TZNAME:GMT
DTSTART:19701025T020000
RRULE:FREQ=YEARLY;BYMONTH=10;BYDAY=-1SU
END:STANDARD
END:VTIMEZONE
BEGIN:VEVENT
UID:4626108:Event:1672
DTSTAMP:20260425T145158Z
SUMMARY:4Networking Business Breakfast, Chessington
DESCRIPTION:4Networking Business Breakfast\n\nA 4Networking business b
 reakfast is the most effective way to promote your business and servic
 es through networking... our dynamic format allows you to quickly buil
 d contacts, leads and win new business.\n4Sight Speaker - Sonia Duggan
  Life Coaching - Who Needs it Anyway?\nSonia trained as a parenting gr
 oup facilitator with the Parent Network in 1995. Since then she has tr
 ained as a life coach with the Coaches Training Institute and offers 1
 -1 coaching by phone or in person, or outdoors 'walking her talk' in b
 eautiful countryside.\nCOST £10.00 per person MEMBERS BOOK HERE\nNon-
 members can register for FREE online membership to come along for a tr
 ial meeting and enjoy 'the 4Networking experience' - give it a go!\nMA
 P\n----------------------------------------\n4Networking has 24,000 me
 mbers and 200 linked breakfast groups around the country. Following br
 eakfast and the 4Sight speaker, you'll then have 3, 10 minute appointm
 ents, these 1-1s work brilliantly and allow you to fast track new busi
 ness relationships. The group has an unstuffy culture, people attend b
 ecause they want to, not because they have to. Members can attend any 
 group in the country and anyone is welcome. See details on our website
  www.4networking.biz\n\nFor more information visit https://networkingi
 nsurrey.co.uk/events/4networking-business-breakfast-6
DTSTART;TZID=Europe/London:20100408T080000
DTEND;TZID=Europe/London:20100408T100000
CATEGORIES:breakfast, chessingston, 4networking
LOCATION:The Monkey Puzzle, Chessington KT9 2NE
WEBSITE:
URL:
CONTACT:
ORGANIZER:Elinor Friedman
ATTACH;FMTTYPE="image/jpeg":http://storage.ning.com/topology/rest/1.0/
 file/get/2591378259?profile=original
ATTENDEE;ROLE=REQ-PARTICIPANT;PARTSTAT=ACCEPTED;RSVP=TRUE;CN="Derek Wi
 lliamson":https://networkinginsurrey.co.uk/profile/DerekWilliamson
END:VEVENT
END:VCALENDAR
