BEGIN:VCALENDAR
PRODID:NingEventWidget-v1
VERSION:2.0
METHOD:PUBLISH
BEGIN:VTIMEZONE
TZID:Europe/London
X-LIC-LOCATION:Europe/London
BEGIN:DAYLIGHT
TZOFFSETFROM:+0000
TZOFFSETTO:+0100
TZNAME:BST
DTSTART:19700329T010000
RRULE:FREQ=YEARLY;BYMONTH=3;BYDAY=-1SU
END:DAYLIGHT
BEGIN:STANDARD
TZOFFSETFROM:+0100
TZOFFSETTO:+0000
TZNAME:GMT
DTSTART:19701025T020000
RRULE:FREQ=YEARLY;BYMONTH=10;BYDAY=-1SU
END:STANDARD
END:VTIMEZONE
BEGIN:VEVENT
UID:4626108:Event:2713
DTSTAMP:20260425T145157Z
SUMMARY:4Networking Business Breakfast, Chessington
DESCRIPTION:4Networking Business Breakfast\n\nA 4Networking business b
 reakfast is the most effective way to promote your business and servic
 es through networking... our dynamic format allows you to quickly buil
 d contacts, leads and win new business.\nOur 4Sight Speaker is Bob Jon
 es of Look Good on Camera with his persentation \"Your Friend, Your Fa
 ce\" on the importance of body language and facial expression in getti
 ng your sales message across more convincingly.\nCOST £10.00 per pers
 on MEMBERS BOOK HERE\nNon-members can register for FREE online members
 hip to come along for a trial meeting and enjoy 'the 4Networking exper
 ience' - give it a go!\nMAP\n----------------------------------------\
 n4Networking has 24,000 members and 200 linked breakfast groups around
  the country. Following breakfast and the 4Sight speaker, you'll then 
 have 3, 10 minute appointments, these 1-1s work brilliantly and allow 
 you to fast track new business relationships. The group has an unstuff
 y culture, people attend because they want to, not because they have t
 o. Members can attend any group in the country and anyone is welcome. 
 See details on our website www.4networking.biz\n\nFor more information
  visit https://networkinginsurrey.co.uk/events/4networking-business-br
 eakfast-52
DTSTART;TZID=Europe/London:20100617T080000
DTEND;TZID=Europe/London:20100617T100000
CATEGORIES:breakfast, chessingston, 4networking, business_networking
LOCATION:The Monkey Puzzle, Chessington KT9 2NE
WEBSITE:http://www.4networking.biz
URL:http://www.4networking.biz
CONTACT:07769 703720
ORGANIZER:Elinor Friedman
ATTACH;FMTTYPE="image/jpeg":http://storage.ning.com/topology/rest/1.0/
 file/get/2591378259?profile=original
ATTENDEE;ROLE=REQ-PARTICIPANT;PARTSTAT=TENTATIVE;RSVP=TRUE;CN="Keith G
 rover, NiS Founder":https://networkinginsurrey.co.uk/profile/KeithGrov
 er
END:VEVENT
END:VCALENDAR
