BEGIN:VCALENDAR
PRODID:NingEventWidget-v1
VERSION:2.0
METHOD:PUBLISH
BEGIN:VTIMEZONE
TZID:Europe/London
X-LIC-LOCATION:Europe/London
BEGIN:DAYLIGHT
TZOFFSETFROM:+0000
TZOFFSETTO:+0100
TZNAME:BST
DTSTART:19700329T010000
RRULE:FREQ=YEARLY;BYMONTH=3;BYDAY=-1SU
END:DAYLIGHT
BEGIN:STANDARD
TZOFFSETFROM:+0100
TZOFFSETTO:+0000
TZNAME:GMT
DTSTART:19701025T020000
RRULE:FREQ=YEARLY;BYMONTH=10;BYDAY=-1SU
END:STANDARD
END:VTIMEZONE
BEGIN:VEVENT
UID:4626108:Event:1661
DTSTAMP:20260425T214634Z
SUMMARY:4Networking Business Breakfast, Kingston uponThames
DESCRIPTION:4Networking Business Breakfast\n\nA 4Networking business b
 reakfast is the most effective way to promote your business and servic
 es through networking... our dynamic format allows you to quickly buil
 d contacts, leads and win new business. This event has been posted by 
 NiS Member Derek Williamson\n4Sight Speaker - Bryan Allworthy\n U+4N+C
 A=Success! What we should be expecting from 4N... Why we should be exp
 ecting it, and... How we make sure we get it.....! Bryan is an entrepr
 eneur, consultant, investment analyst and specialist salesman with nea
 rly 25 years experience with three leading securities houses.\n\nCOST 
 £10.00 per person MEMBERS BOOK HERE\nNon-members can register for FRE
 E online membership to come along for a trial meeting and enjoy 'the 4
 Networking experience' - give it a go!\nMAP\nVENUE\n------------------
 ----------------------\n4Networking has 24,000 members and 200 linked 
 breakfast groups around the country. Following breakfast and the 4Sigh
 t speaker, you'll then have 3, 10 minute appointments, these 1-1s work
  brilliantly and allow you to fast track new business relationships. T
 he group has an unstuffy culture, people attend because they want to, 
 not because they have to. Members can attend any group in the country 
 and anyone is welcome. See details on our website www.4networking.biz\
 n\nFor more information visit https://networkinginsurrey.co.uk/events/
 4networking-business-breakfast-5
DTSTART;TZID=Europe/London:20100406T080000
DTEND;TZID=Europe/London:20100406T100000
CATEGORIES:breakfast, kingston, 4networking
LOCATION:The Harts Boatyard, Kingston uponThames KT6 4HL
WEBSITE:http://www.4networking.biz
URL:http://www.4networking.biz
CONTACT:07769 703720
ORGANIZER:Mark Rouvray
ATTACH;FMTTYPE="image/jpeg":http://storage.ning.com/topology/rest/1.0/
 file/get/2591378564?profile=original
ATTENDEE;ROLE=REQ-PARTICIPANT;PARTSTAT=ACCEPTED;RSVP=TRUE;CN="Derek Wi
 lliamson":https://networkinginsurrey.co.uk/profile/DerekWilliamson
END:VEVENT
END:VCALENDAR
