BEGIN:VCALENDAR
PRODID:NingEventWidget-v1
VERSION:2.0
METHOD:PUBLISH
BEGIN:VTIMEZONE
TZID:Europe/London
X-LIC-LOCATION:Europe/London
BEGIN:DAYLIGHT
TZOFFSETFROM:+0000
TZOFFSETTO:+0100
TZNAME:BST
DTSTART:19700329T010000
RRULE:FREQ=YEARLY;BYMONTH=3;BYDAY=-1SU
END:DAYLIGHT
BEGIN:STANDARD
TZOFFSETFROM:+0100
TZOFFSETTO:+0000
TZNAME:GMT
DTSTART:19701025T020000
RRULE:FREQ=YEARLY;BYMONTH=10;BYDAY=-1SU
END:STANDARD
END:VTIMEZONE
BEGIN:VEVENT
UID:4626108:Event:3650
DTSTAMP:20260425T145115Z
SUMMARY:4Networking Business Breakfast, Chessington
DESCRIPTION:4Networking Business Breakfast\n\nA 4Networking business b
 reakfast is the most effective way to promote your business and servic
 es through networking... our dynamic format allows you to quickly buil
 d contacts, leads and win new business.\nToday's 4Sight Speaker is Rob
  Williams (Car Phone Company Ltd) with 'The Email Doctor's First aid K
 it' - 10 top mail tips... really recommended. This guy really knows hi
 s stuff. He can save you an hour a day!\n\nCOST £10.00 per person MEM
 BERS BOOK HERE\nNon-members can register for FREE online membership to
  come along for a trial meeting and enjoy 'the 4Networking experience'
  - give it a go!\nMAP\nThis event was posted by NiS Member Fiona Syret
 t of Digital Unite\n----------------------------------------\n4Network
 ing has 24,000 members and 200 linked breakfast groups around the coun
 try. Following breakfast and the 4Sight speaker, you'll then have 3, 1
 0 minute appointments, these 1-1s work brilliantly and allow you to fa
 st track new business relationships. The group has an unstuffy culture
 , people attend because they want to, not because they have to. Member
 s can attend any group in the country and anyone is welcome. See detai
 ls on our website www.4networking.biz\n[SEE ALL 4N events in Surrey on
  one page here on Networking in Surrey...]\n\nFor more information vis
 it https://networkinginsurrey.co.uk/events/4networking-business-breakf
 ast-430
DTSTART;TZID=Europe/London:20100812T080000
DTEND;TZID=Europe/London:20100812T100000
CATEGORIES:breakfast, chessingston, 4networking, business_networking_s
 urrey
LOCATION:The Monkey Puzzle, Chessington KT9 2NE
WEBSITE:http://www.4networking.biz
URL:http://www.4networking.biz
CONTACT:http://www.4networking.biz
ORGANIZER:Elinor Friedman
ATTACH;FMTTYPE="image/jpeg":http://storage.ning.com/topology/rest/1.0/
 file/get/2591378259?profile=original
END:VEVENT
END:VCALENDAR
