BEGIN:VCALENDAR
PRODID:NingEventWidget-v1
VERSION:2.0
METHOD:PUBLISH
BEGIN:VTIMEZONE
TZID:Europe/London
X-LIC-LOCATION:Europe/London
BEGIN:DAYLIGHT
TZOFFSETFROM:+0000
TZOFFSETTO:+0100
TZNAME:BST
DTSTART:19700329T010000
RRULE:FREQ=YEARLY;BYMONTH=3;BYDAY=-1SU
END:DAYLIGHT
BEGIN:STANDARD
TZOFFSETFROM:+0100
TZOFFSETTO:+0000
TZNAME:GMT
DTSTART:19701025T020000
RRULE:FREQ=YEARLY;BYMONTH=10;BYDAY=-1SU
END:STANDARD
END:VTIMEZONE
BEGIN:VEVENT
UID:4626108:Event:2554
DTSTAMP:20260425T214633Z
SUMMARY:4Networking Business Breakfast, Walton & Weybridge
DESCRIPTION:4Networking Business Breakfast, Walton & Weybridge\n\nOur 
 dynamic format allows you to quickly build contacts, leads and win new
  business.\nToday's 4Sight Speaker is Rob Williams (Car Phone Company 
 Ltd) with 'The Email Doctor's First aid Kit' - 10 top mail tips... rea
 lly recommended. This guy really knows his stuff. He can save you an h
 our a day!\nCOST Â£10.00 per person BOOK HERE\nNon-members can registe
 r for FREE online membership to come along for a trial meeting (cost Â
 £10) and enjoy 'the 4Networking experience' - give it a go!\nMAP\nVENU
 E\n----------------------------------------\n4Networking has 24,000 me
 mbers and 200 linked breakfast groups around the country. Following br
 eakfast and the 4Sight speaker, you'll then have 3, 10 minute appointm
 ents, these 1-1s work brilliantly and allow you to fast track new busi
 ness relationships. The group has an unstuffy culture, people attend b
 ecause they want to, not because they have to. Members can attend any 
 group in the country and anyone is welcome. See details on our website
  www.4networking.biz\n\nFor more information visit https://networkingi
 nsurrey.co.uk/events/4networking-business-breakfast-419
DTSTART;TZID=Europe/London:20100604T080000
DTEND;TZID=Europe/London:20100604T220000
CATEGORIES:breakfast, walton, weybridge, 4networking, business_network
 ing
LOCATION:The Swan, Walton-on-Thames KT12 2PF
WEBSITE:http://www.4networking.biz/events/11884.htm
URL:http://www.4networking.biz/events/11884.htm
CONTACT:
ORGANIZER:Sonia Duggan
ATTACH;FMTTYPE="image/jpeg":http://storage.ning.com/topology/rest/1.0/
 file/get/2591379824?profile=original
ATTENDEE;ROLE=REQ-PARTICIPANT;PARTSTAT=ACCEPTED;RSVP=TRUE;CN="Keith Gr
 over, NiS Founder":https://networkinginsurrey.co.uk/profile/KeithGrove
 r
END:VEVENT
END:VCALENDAR
