BEGIN:VCALENDAR
PRODID:NingEventWidget-v1
VERSION:2.0
METHOD:PUBLISH
BEGIN:VTIMEZONE
TZID:Europe/London
X-LIC-LOCATION:Europe/London
BEGIN:DAYLIGHT
TZOFFSETFROM:+0000
TZOFFSETTO:+0100
TZNAME:BST
DTSTART:19700329T010000
RRULE:FREQ=YEARLY;BYMONTH=3;BYDAY=-1SU
END:DAYLIGHT
BEGIN:STANDARD
TZOFFSETFROM:+0100
TZOFFSETTO:+0000
TZNAME:GMT
DTSTART:19701025T020000
RRULE:FREQ=YEARLY;BYMONTH=10;BYDAY=-1SU
END:STANDARD
END:VTIMEZONE
BEGIN:VEVENT
UID:4626108:Event:2893
DTSTAMP:20260425T185303Z
SUMMARY:4Networking Business Breakfast, Godalming
DESCRIPTION:\r\n\r\n 4Sight Speaker - Karen Canfield, Your Life Laundr
 y presents 'Calm down dear...' - reduce stress in your life!\r\n\r\nCO
 ST £10.00 per person MEMBERS BOOK HERE\r\nNon-members can register fo
 r FREE online membership to come along for a trial meeting and enjoy '
 the 4Networking experience' - give it a go!\r\nMAP\r\n----------------
 ------------------------\r\n4Networking has 24,000 members and 200 lin
 ked breakfast groups around the country. Following breakfast and the 4
 Sight speaker, you'll then have 3, 10 minute appointments, these 1-1s 
 work brilliantly and allow you to fast track new business relationship
 s. The group has an unstuffy culture, people attend because they want 
 to, not because they have to. Members can attend any group in the coun
 try and anyone is welcome. See details on our website www.4networking.
 biz\n\nFor more information visit https://networkinginsurrey.co.uk/eve
 nts/4networking-business-breakfast-414
DTSTART;TZID=Europe/London:20100615T080000
DTEND;TZID=Europe/London:20100615T100000
CATEGORIES:breakfast, godalming, 4networking, business_networking
LOCATION:The Manor House, Godalming GU7 2AS
WEBSITE:
URL:
CONTACT:01483 239376
ORGANIZER:Dee Garnett
ATTACH;FMTTYPE="image/jpeg":http://storage.ning.com/topology/rest/1.0/
 file/get/2591380048?profile=original
ATTENDEE;ROLE=REQ-PARTICIPANT;PARTSTAT=ACCEPTED;RSVP=TRUE;CN="Keith Gr
 over, NiS Founder":https://networkinginsurrey.co.uk/profile/KeithGrove
 r
END:VEVENT
END:VCALENDAR
