BEGIN:VCALENDAR
PRODID:NingEventWidget-v1
VERSION:2.0
METHOD:PUBLISH
BEGIN:VTIMEZONE
TZID:Europe/London
X-LIC-LOCATION:Europe/London
BEGIN:DAYLIGHT
TZOFFSETFROM:+0000
TZOFFSETTO:+0100
TZNAME:BST
DTSTART:19700329T010000
RRULE:FREQ=YEARLY;BYMONTH=3;BYDAY=-1SU
END:DAYLIGHT
BEGIN:STANDARD
TZOFFSETFROM:+0100
TZOFFSETTO:+0000
TZNAME:GMT
DTSTART:19701025T020000
RRULE:FREQ=YEARLY;BYMONTH=10;BYDAY=-1SU
END:STANDARD
END:VTIMEZONE
BEGIN:VEVENT
UID:4626108:Event:2525
DTSTAMP:20260426T021821Z
SUMMARY:4Networking Business Breakfast, Godalming
DESCRIPTION:\r\n4Sight Speaker Mike White (Win New Customers)\r\n\r\n'
 Getting Past the Gate Keeper'\r\nMike presents the 2nd of his series -
  the ABC of Sales.\r\nA 4Networking business breakfast is the most eff
 ective way to promote your business and services through networking...
  our dynamic format allows you to quickly build contacts, leads and wi
 n new business.\r\nCOST £10.00 per person MEMBERS BOOK HERE\r\nNon-me
 mbers can register for FREE online membership to come along for a tria
 l meeting and enjoy 'the 4Networking experience' - give it a go!\r\nMA
 P\r\n----------------------------------------\r\n4Networking has 24,00
 0 members and 200 linked breakfast groups around the country. Followin
 g breakfast and the 4Sight speaker, you'll then have 3, 10 minute appo
 intments, these 1-1s work brilliantly and allow you to fast track new 
 business relationships. The group has an unstuffy culture, people atte
 nd because they want to, not because they have to. Members can attend 
 any group in the country and anyone is welcome. See details on our web
 site www.4networking.biz\n\nFor more information visit https://network
 inginsurrey.co.uk/events/4networking-business-breakfast-382
DTSTART;TZID=Europe/London:20100601T080000
DTEND;TZID=Europe/London:20100601T100000
CATEGORIES:breakfast, godalming, 4networking, business_networking
LOCATION:The Manor House, Godalming GU7 2AS
WEBSITE:http://www.4networking.biz/events/11065.htm
URL:http://www.4networking.biz/events/11065.htm
CONTACT:01483 239376
ORGANIZER:Dee Garnett
ATTACH;FMTTYPE="image/jpeg":http://storage.ning.com/topology/rest/1.0/
 file/get/2591380048?profile=original
END:VEVENT
END:VCALENDAR
