BEGIN:VCALENDAR
PRODID:NingEventWidget-v1
VERSION:2.0
METHOD:PUBLISH
BEGIN:VTIMEZONE
TZID:Europe/London
X-LIC-LOCATION:Europe/London
BEGIN:DAYLIGHT
TZOFFSETFROM:+0000
TZOFFSETTO:+0100
TZNAME:BST
DTSTART:19700329T010000
RRULE:FREQ=YEARLY;BYMONTH=3;BYDAY=-1SU
END:DAYLIGHT
BEGIN:STANDARD
TZOFFSETFROM:+0100
TZOFFSETTO:+0000
TZNAME:GMT
DTSTART:19701025T020000
RRULE:FREQ=YEARLY;BYMONTH=10;BYDAY=-1SU
END:STANDARD
END:VTIMEZONE
BEGIN:VEVENT
UID:4626108:Event:10602
DTSTAMP:20260422T230944Z
SUMMARY:4Networking Business Breakfast, Walton on Thames
DESCRIPTION:4Networking Business Breakfast, Walton & Weybridge\n\nOur 
 dynamic format allows you to quickly build contacts, leads and win new
  business. The Walton group is very lively, friendly and welcoming, T
 he Swan is an excellent venue and the continental breakfasts here are 
 first class!  \nToday's 4Sight slot features 4N's Uzma Afzal \nFood
  Talks is her  informative look at what Vitamins, Minerals and Antiox
 idants do for our cells, and therefore our bodies. Why do we need the
 m and what should we look out for?\nCOST £10.00 per person BOOK HERE
 \nNon-members can register for FREE online membership to come along fo
 r a trial meeting (cost £10) and enjoy 'the 4Networking experience' -
  give it a go! And 4N Members we'd love to see you again this Friday..
 . come on down!\nMAP\nVENUE\n----------------------------------------\
 n4Networking has 24,000 members and 200 linked breakfast groups around
  the country. Following breakfast and the 4Sight speaker, you'll then 
 have 3, 10 minute appointments, these 1-1s work brilliantly and allow 
 you to fast track new business relationships. The group has an unstuff
 y culture, people attend because they want to, not because they have t
 o. Members can attend any group in the country and anyone is welcome. 
 See details on our website www.4networking.biz\n\nFor more information
  visit https://networkinginsurrey.co.uk/events/4networking-business-br
 eakfast-377
DTSTART;TZID=Europe/London:20110311T080000
DTEND;TZID=Europe/London:20110311T100000
CATEGORIES:breakfast, walton, weybridge, 4networking, business_network
 ing
LOCATION:The Swan, Walton-on-Thames KT12 2PF
WEBSITE:http://www.4networking.biz/Events/Details/16966
URL:http://www.4networking.biz/Events/Details/16966
CONTACT:01932 845814
ORGANIZER;CN="Keith Grover, NiS Founder":https://networkinginsurrey.co
 .uk/profile/KeithGrover
ATTACH;FMTTYPE="image/jpeg":http://storage.ning.com/topology/rest/1.0/
 file/get/2591379824?profile=original
ATTENDEE;ROLE=REQ-PARTICIPANT;PARTSTAT=ACCEPTED;RSVP=TRUE;CN="Keith Gr
 over, NiS Founder":https://networkinginsurrey.co.uk/profile/KeithGrove
 r
END:VEVENT
END:VCALENDAR
