BEGIN:VCALENDAR
PRODID:NingEventWidget-v1
VERSION:2.0
METHOD:PUBLISH
BEGIN:VTIMEZONE
TZID:Europe/London
X-LIC-LOCATION:Europe/London
BEGIN:DAYLIGHT
TZOFFSETFROM:+0000
TZOFFSETTO:+0100
TZNAME:BST
DTSTART:19700329T010000
RRULE:FREQ=YEARLY;BYMONTH=3;BYDAY=-1SU
END:DAYLIGHT
BEGIN:STANDARD
TZOFFSETFROM:+0100
TZOFFSETTO:+0000
TZNAME:GMT
DTSTART:19701025T020000
RRULE:FREQ=YEARLY;BYMONTH=10;BYDAY=-1SU
END:STANDARD
END:VTIMEZONE
BEGIN:VEVENT
UID:4626108:Event:3021
DTSTAMP:20260425T185338Z
SUMMARY:4Networking Business Breakfast, Epsom
DESCRIPTION:4Networking Business Breakfast, Epsom - Meet 4N Director T
 im Johnson!\n\nA 4Networking business breakfast is the most effective 
 way to promote your business and services through networking... our dy
 namic format allows you to quickly build contacts, pick up leads and w
 in new business.\n4Sight Speaker -Tim Johnson (4Networking) 'The Oppor
 tunities of Adversity' 4N Director Tim Johnson journeys up to Epsom no
 t just to share his amazing story of triumph over adversity, but to sh
 ow how you can in fact turn adversity to your advantage - even in ever
 yday matters.\nCOST £10.00 per person\n4N MEMBERS BOOK HERE\nNon-memb
 ers can register for FREE online membership to come along for a trial 
 meeting (cost £10) and enjoy 'the 4Networking experience' - give it a
  go!\nMAP\n----------------------------------------\n4Networking has 2
 4,000 members and 200 linked breakfast groups around the country. Foll
 owing breakfast and the 4Sight speaker, you'll then have 3, 10 minute 
 appointments, these 1-1s work brilliantly and allow you to fast track 
 new business relationships. The group has an unstuffy culture, people 
 attend because they want to, not because they have to. Members can att
 end any group in the country and anyone is welcome. See details on our
  website www.4networking.biz\n\nFor more information visit https://net
 workinginsurrey.co.uk/events/4networking-business-breakfast-338
DTSTART;TZID=Europe/London:20100623T080000
DTEND;TZID=Europe/London:20100623T100000
CATEGORIES:breakfast, epsom, 4networking, business_networking
LOCATION:The Haywain, Epsom KT18 7LB
WEBSITE:http://www.4networking.biz/events/11460.htm
URL:http://www.4networking.biz/events/11460.htm
CONTACT:Alison Duncan 0208 123 9404
ORGANIZER:Magic Friedman
ATTACH;FMTTYPE="image/jpeg":http://storage.ning.com/topology/rest/1.0/
 file/get/2591379163?profile=original
ATTENDEE;ROLE=REQ-PARTICIPANT;PARTSTAT=TENTATIVE;RSVP=TRUE;CN="Keith G
 rover, NiS Founder":https://networkinginsurrey.co.uk/profile/KeithGrov
 er
END:VEVENT
END:VCALENDAR
