BEGIN:VCALENDAR
PRODID:NingEventWidget-v1
VERSION:2.0
METHOD:PUBLISH
BEGIN:VTIMEZONE
TZID:Europe/London
X-LIC-LOCATION:Europe/London
BEGIN:DAYLIGHT
TZOFFSETFROM:+0000
TZOFFSETTO:+0100
TZNAME:BST
DTSTART:19700329T010000
RRULE:FREQ=YEARLY;BYMONTH=3;BYDAY=-1SU
END:DAYLIGHT
BEGIN:STANDARD
TZOFFSETFROM:+0100
TZOFFSETTO:+0000
TZNAME:GMT
DTSTART:19701025T020000
RRULE:FREQ=YEARLY;BYMONTH=10;BYDAY=-1SU
END:STANDARD
END:VTIMEZONE
BEGIN:VEVENT
UID:4626108:Event:774
DTSTAMP:20260425T231331Z
SUMMARY:4Networking Business Breakfast, Haslemere
DESCRIPTION:\nA 4Networking business breakfast is the most effective w
 ay to promote your business and services through networking... our dyn
 amic format allows you to quickly build contacts, leads and win new bu
 siness.\n4Sight Speaker - Robert Nock from Pro-Potential will give us 
 an insight into\n'Recognising and Dealing with Limiting Beliefs'\n\nCO
 ST £10.00 per person MEMBERS BOOK HERE\nNon-members can register for 
 FREE online membership to come along for a trial meeting and enjoy 'th
 e 4Networking experience' - give it a go!\nMAP\n----------------------
 ------------------\n4Networking has 24,000 members and 200 linked brea
 kfast groups around the country. Following breakfast and the 4Sight sp
 eaker, you'll then have 3, 10 minute appointments, these 1-1s work bri
 lliantly and allow you to fast track new business relationships. The g
 roup has an unstuffy culture, people attend because they want to, not 
 because they have to. Members can attend any group in the country and 
 anyone is welcome. See details on our website www.4networking.biz\n\n\
 nFor more information visit https://networkinginsurrey.co.uk/events/4n
 etworking-business-breakfast-3
DTSTART;TZID=Europe/London:20100225T080000
DTEND;TZID=Europe/London:20100225T100000
CATEGORIES:breakfast, haslemere
LOCATION:Georgian House Hotel, Haslemere GU27 2JY
WEBSITE:http://www.4networking.biz/events/9978.htm
URL:http://www.4networking.biz/events/9978.htm
CONTACT:01252 711772 Vicky Martin
ORGANIZER:Vicky Martin, Conference Dynamics Ltd
ATTACH;FMTTYPE="image/jpeg":http://storage.ning.com/topology/rest/1.0/
 file/get/2591378367?profile=original
ATTENDEE;ROLE=REQ-PARTICIPANT;PARTSTAT=ACCEPTED;RSVP=TRUE;CN="Keith Gr
 over, NiS Founder":https://networkinginsurrey.co.uk/profile/KeithGrove
 r
END:VEVENT
END:VCALENDAR
