BEGIN:VCALENDAR
PRODID:NingEventWidget-v1
VERSION:2.0
METHOD:PUBLISH
BEGIN:VTIMEZONE
TZID:Europe/London
X-LIC-LOCATION:Europe/London
BEGIN:DAYLIGHT
TZOFFSETFROM:+0000
TZOFFSETTO:+0100
TZNAME:BST
DTSTART:19700329T010000
RRULE:FREQ=YEARLY;BYMONTH=3;BYDAY=-1SU
END:DAYLIGHT
BEGIN:STANDARD
TZOFFSETFROM:+0100
TZOFFSETTO:+0000
TZNAME:GMT
DTSTART:19701025T020000
RRULE:FREQ=YEARLY;BYMONTH=10;BYDAY=-1SU
END:STANDARD
END:VTIMEZONE
BEGIN:VEVENT
UID:4626108:Event:2569
DTSTAMP:20260425T185750Z
SUMMARY:4Networking Business Breakfast, Walton & Weybridge
DESCRIPTION:\n4Networking Business Breakfast, Walton & Weybridge\nOur 
 dynamic format allows you to quickly build contacts, leads and win new
  business.\nToday's 4Sight Speaker is Beverley Cotterell (WPA Private 
 Health Insurance) and her presentaton is 'Are you Building a House of 
 Cards or a Pyramid?'\nBeverley has been in Financial Services for over
  11 years, mostly as a Financial Adviser for two of the UK’s major b
 anks. She is now self employed with an office in Shepperton, workig wi
 th the self employed, local businesses and families throughout Middles
 ex, Surrey and Hampshire.\nWPA Healthcare offers Private Healthcare, D
 ental & Optical plans for families, self employed, professionals & com
 panies of 3 plus. WPA a not for profit organisation gives access to al
 l UK hospitals including central London with no penalties for claiming
 .\nCOST £10.00 per person BOOK HERE\nNon-members can register for FRE
 E online membership to come along for a trial meeting (cost £10) and 
 enjoy 'the 4Networking experience' - give it a go!\nMAP\nVENUE\n------
 ----------------------------------\n4Networking has 24,000 members and
  200 linked breakfast groups around the country. Following breakfast a
 nd the 4Sight speaker, you'll then have 3, 10 minute appointments, the
 se 1-1s work brilliantly and allow you to fast track new business rela
 tionships. The group has an unstuffy culture, people attend because th
 ey want to, not because they have to. Members can attend any group in 
 the country and anyone is welcome. See details on our website www.4net
 working.biz\n\nFor more information visit https://networkinginsurrey.c
 o.uk/events/4networking-business-breakfast-288
DTSTART;TZID=Europe/London:20100618T080000
DTEND;TZID=Europe/London:20100618T100000
CATEGORIES:breakfast, walton, weybridge, 4networking, business_network
 ing
LOCATION:The Swan, Walton-on-Thames KT12 2PF
WEBSITE:http://www.4networking.biz/events/11884.htm
URL:http://www.4networking.biz/events/11884.htm
CONTACT:01932 849309
ORGANIZER:Sonia Duggan
ATTACH;FMTTYPE="image/jpeg":http://storage.ning.com/topology/rest/1.0/
 file/get/2591379824?profile=original
ATTENDEE;ROLE=REQ-PARTICIPANT;PARTSTAT=ACCEPTED;RSVP=TRUE;CN="Derek Wi
 lliamson":https://networkinginsurrey.co.uk/profile/DerekWilliamson
ATTENDEE;ROLE=REQ-PARTICIPANT;PARTSTAT=ACCEPTED;RSVP=TRUE;CN="Keith Gr
 over, NiS Founder":https://networkinginsurrey.co.uk/profile/KeithGrove
 r
END:VEVENT
END:VCALENDAR
