BEGIN:VCALENDAR
PRODID:NingEventWidget-v1
VERSION:2.0
METHOD:PUBLISH
BEGIN:VTIMEZONE
TZID:Europe/London
X-LIC-LOCATION:Europe/London
BEGIN:DAYLIGHT
TZOFFSETFROM:+0000
TZOFFSETTO:+0100
TZNAME:BST
DTSTART:19700329T010000
RRULE:FREQ=YEARLY;BYMONTH=3;BYDAY=-1SU
END:DAYLIGHT
BEGIN:STANDARD
TZOFFSETFROM:+0100
TZOFFSETTO:+0000
TZNAME:GMT
DTSTART:19701025T020000
RRULE:FREQ=YEARLY;BYMONTH=10;BYDAY=-1SU
END:STANDARD
END:VTIMEZONE
BEGIN:VEVENT
UID:4626108:Event:4246
DTSTAMP:20260425T190840Z
SUMMARY:4Networking Business Breakfast, Guildford
DESCRIPTION:4Networking Business Breakfast at Guildford Golf Club\n\n\
 n4Sight Speaker - Elvira Villarini (E-motion NLP)\nWhy do we sometimes
  communicate so ineffectively? Have you thought why at times your mess
 age is misunderstood? Do you ever get annoyed when you know you said s
 omething and the other person denies it categorically? Have you ever w
 ondered why sometimes you see or hear things others don’t? The NLP C
 ommunication Model has the answers!\nCOST £10.00 per person MEMBERS B
 OOK HERE\nNon-members can register for FREE online membership to come 
 along for a trial meeting and enjoy 'the 4Networking experience' - giv
 e it a go!\nVENUE\nMAP\n----------------------------------------\n4Net
 working has 24,000 members and 200 linked breakfast groups around the 
 country. Following breakfast and the 4Sight speaker, you'll then have 
 3, 10 minute appointments, these 1-1s work brilliantly and allow you t
 o fast track new business relationships. The group has an unstuffy cul
 ture, people attend because they want to, not because they have to. Me
 mbers can attend any group in the country and anyone is welcome. See d
 etails on our website www.4networking.biz\n\n\nFor more information vi
 sit https://networkinginsurrey.co.uk/events/4networking-business-break
 fast-236
DTSTART;TZID=Europe/London:20101001T080000
DTEND;TZID=Europe/London:20101001T220000
CATEGORIES:breakfast, guildford, business_networking_surrey
LOCATION:Guildford Golf Club, Guildford GU1 2HL
WEBSITE:http://www.guildfordgolfclub.co.uk/
URL:http://www.guildfordgolfclub.co.uk/
CONTACT:
ORGANIZER:Ruth Sangale, HR Dept
ATTACH;FMTTYPE="image/jpeg":http://storage.ning.com/topology/rest/1.0/
 file/get/2591377319?profile=original
ATTENDEE;ROLE=REQ-PARTICIPANT;PARTSTAT=ACCEPTED;RSVP=TRUE;CN="Keith Gr
 over, NiS Founder":https://networkinginsurrey.co.uk/profile/KeithGrove
 r
END:VEVENT
END:VCALENDAR
