BEGIN:VCALENDAR
PRODID:NingEventWidget-v1
VERSION:2.0
METHOD:PUBLISH
BEGIN:VTIMEZONE
TZID:Europe/London
X-LIC-LOCATION:Europe/London
BEGIN:DAYLIGHT
TZOFFSETFROM:+0000
TZOFFSETTO:+0100
TZNAME:BST
DTSTART:19700329T010000
RRULE:FREQ=YEARLY;BYMONTH=3;BYDAY=-1SU
END:DAYLIGHT
BEGIN:STANDARD
TZOFFSETFROM:+0100
TZOFFSETTO:+0000
TZNAME:GMT
DTSTART:19701025T020000
RRULE:FREQ=YEARLY;BYMONTH=10;BYDAY=-1SU
END:STANDARD
END:VTIMEZONE
BEGIN:VEVENT
UID:4626108:Event:6732
DTSTAMP:20260422T092242Z
SUMMARY:4Networking Business Breakfast, Walton & Weybridge
DESCRIPTION:\n 4Networking Business Breakfast at the Swan\n\n\nOur dy
 namic format allows you to quickly build contacts, leads and win new b
 usiness.\n4Sight Speaker: Evonne Brown\n How to tame the voices in you
 r head so that they work for you, not against you (and yes, we all exp
 erience them!)\nThe networking event will be followed by a Training Se
 ssion with 4N Regional Leader Gordon Hewitt who will give an overview 
 of the LEARN Model to enable members to grasp 4Ns values and more effe
 ctively use the 4N Platform\n\n---------------------------------------
 -\n4Networking has 24,000 members and 200 linked breakfast groups arou
 nd the country. Following breakfast and the 4Sight speaker, you'll the
 n have 3, 10 minute appointments, these 1-1s work brilliantly and allo
 w you to fast track new business relationships. The group has an unstu
 ffy culture, people attend because they want to, not because they have
  to. Members can attend any group in the country and anyone is welcome
 . See details on our website www.4networking.biz\n\nFor more informati
 on visit https://networkinginsurrey.co.uk/events/4networking-business-
 breakfast-222
DTSTART;TZID=Europe/London:20110114T080000
DTEND;TZID=Europe/London:20110114T100000
CATEGORIES:breakfast, walton, weybridge, 4networking, business_network
 ing
LOCATION:The Swan, Walton-on-Thames KT12 2PF
WEBSITE:http://www.4networking.biz/events/15689.htm
URL:http://www.4networking.biz/events/15689.htm
CONTACT:
ORGANIZER:John Edward, BestMortgage4U
ATTACH;FMTTYPE="image/jpeg":http://storage.ning.com/topology/rest/1.0/
 file/get/2591379824?profile=original
ATTENDEE;ROLE=REQ-PARTICIPANT;PARTSTAT=ACCEPTED;RSVP=TRUE;CN="Keith Gr
 over, NiS Founder":https://networkinginsurrey.co.uk/profile/KeithGrove
 r
END:VEVENT
END:VCALENDAR
