BEGIN:VCALENDAR
PRODID:NingEventWidget-v1
VERSION:2.0
METHOD:PUBLISH
BEGIN:VTIMEZONE
TZID:Europe/London
X-LIC-LOCATION:Europe/London
BEGIN:DAYLIGHT
TZOFFSETFROM:+0000
TZOFFSETTO:+0100
TZNAME:BST
DTSTART:19700329T010000
RRULE:FREQ=YEARLY;BYMONTH=3;BYDAY=-1SU
END:DAYLIGHT
BEGIN:STANDARD
TZOFFSETFROM:+0100
TZOFFSETTO:+0000
TZNAME:GMT
DTSTART:19701025T020000
RRULE:FREQ=YEARLY;BYMONTH=10;BYDAY=-1SU
END:STANDARD
END:VTIMEZONE
BEGIN:VEVENT
UID:4626108:Event:2575
DTSTAMP:20260425T145157Z
SUMMARY:4Networking Business Breakfast, Walton & Weybridge
DESCRIPTION:\n4Networking Business Breakfast, Walton & Weybridge\nOur 
 dynamic format allows you to quickly build contacts, leads and win new
  business.\nToday's 4Sight Speaker is Sonia Duggan (Inspiration!) on '
 Life Coaching - who needs it anyway?' What's it all about, Alfie? Soni
 a will help you to create an inspiring vision and share some practical
  coaching tools you can use to get closer to your goals.\nSonia works 
 with: - entrepreneurs who are finding it hard to see their way clearly
  and helps them to clarify their goals and see possibilities that were
 n’t previously apparent.\n- parents who want to improve their childr
 en’s self-esteem and communication and relationships within the fami
 ly. I help them balance their needs with their children's, to deal wit
 h feelings and needs, to learn about their values and identity as pare
 nts, and to change unacceptable behaviour and gain co-operation.\n- cr
 eative people who are blocked and help them to free up and expand thei
 r creativity.\n\nIf you would like to:\n\nGain clarity around how you 
 want your life to be,\ntap into your courage to make your ideal life a
  reality, and\nstay commited to your vision as you move forward on you
 r path,\nthen please contact Sonia for a free sample coaching session 
 to find out how coaching can bring fulfilment and enable you to live i
 n harmony with your values.\n\n\nCOST £10.00 per person BOOK HERE\nNo
 n-members can register for FREE online membership to come along for a 
 trial meeting (cost £10) and enjoy 'the 4Networking experience' - giv
 e it a go!\nMAP\nVENUE\n----------------------------------------\n4Net
 working has 24,000 members and 200 linked breakfast groups around the 
 country. Following breakfast and the 4Sight speaker, you'll then have 
 3, 10 minute appointments, these 1-1s work brilliantly and allow you t
 o fast track new business relationships. The group has an unstuffy cul
 ture, people attend because they want to, not because they have to. Me
 mbers can attend any group in the country and anyone is welcome. See d
 etails on our website www.4networking.biz\n\nFor more information visi
 t https://networkinginsurrey.co.uk/events/4networking-business-breakfa
 st-184
DTSTART;TZID=Europe/London:20100702T080000
DTEND;TZID=Europe/London:20100702T100000
CATEGORIES:breakfast, walton, weybridge, 4networking, business_network
 ing
LOCATION:The Swan, Walton-on-Thames KT12 2PF
WEBSITE:http://www.4networking.biz/events/11884.htm
URL:http://www.4networking.biz/events/11884.htm
CONTACT:http://www.4networking.biz/events/11884.htm
ORGANIZER:Sonia Duggan
ATTACH;FMTTYPE="image/jpeg":http://storage.ning.com/topology/rest/1.0/
 file/get/2591379824?profile=original
ATTENDEE;ROLE=REQ-PARTICIPANT;PARTSTAT=ACCEPTED;RSVP=TRUE;CN="Derek Wi
 lliamson":https://networkinginsurrey.co.uk/profile/DerekWilliamson
ATTENDEE;ROLE=REQ-PARTICIPANT;PARTSTAT=ACCEPTED;RSVP=TRUE;CN="Keith Gr
 over, NiS Founder":https://networkinginsurrey.co.uk/profile/KeithGrove
 r
END:VEVENT
END:VCALENDAR
