BEGIN:VCALENDAR
PRODID:NingEventWidget-v1
VERSION:2.0
METHOD:PUBLISH
BEGIN:VTIMEZONE
TZID:Europe/London
X-LIC-LOCATION:Europe/London
BEGIN:DAYLIGHT
TZOFFSETFROM:+0000
TZOFFSETTO:+0100
TZNAME:BST
DTSTART:19700329T010000
RRULE:FREQ=YEARLY;BYMONTH=3;BYDAY=-1SU
END:DAYLIGHT
BEGIN:STANDARD
TZOFFSETFROM:+0100
TZOFFSETTO:+0000
TZNAME:GMT
DTSTART:19701025T020000
RRULE:FREQ=YEARLY;BYMONTH=10;BYDAY=-1SU
END:STANDARD
END:VTIMEZONE
BEGIN:VEVENT
UID:4626108:Event:2718
DTSTAMP:20260425T120442Z
SUMMARY:4Networking Business Breakfast, Chessington
DESCRIPTION:4Networking Business Breakfast\n\nA 4Networking business b
 reakfast is the most effective way to promote your business and servic
 es through networking... our dynamic format allows you to quickly buil
 d contacts, leads and win new business.\nOur 4Sight Speaker is Paul Ro
 utley of Real Selling Sales Communication with his presentation \"How 
 to Win Sales and Influence People\" Avoid price focussed sales situati
 ons and understand and satisfy client objections rather than just hand
 le them.\n\n\n\nCOST £10.00 per person MEMBERS BOOK HERE\nNon-members
  can register for FREE online membership to come along for a trial mee
 ting and enjoy 'the 4Networking experience' - give it a go!\nMAP\n----
 ------------------------------------\n4Networking has 24,000 members a
 nd 200 linked breakfast groups around the country. Following breakfast
  and the 4Sight speaker, you'll then have 3, 10 minute appointments, t
 hese 1-1s work brilliantly and allow you to fast track new business re
 lationships. The group has an unstuffy culture, people attend because 
 they want to, not because they have to. Members can attend any group i
 n the country and anyone is welcome. See details on our website www.4n
 etworking.biz\n\nFor more information visit https://networkinginsurrey
 .co.uk/events/4networking-business-breakfast-162
DTSTART;TZID=Europe/London:20100701T080000
DTEND;TZID=Europe/London:20100701T100000
CATEGORIES:breakfast, chessingston, 4networking, business_networking
LOCATION:The Monkey Puzzle, Chessington KT9 2NE
WEBSITE:http://www.4networking.biz
URL:http://www.4networking.biz
CONTACT:07769 703720
ORGANIZER:Elinor Friedman
ATTACH;FMTTYPE="image/jpeg":http://storage.ning.com/topology/rest/1.0/
 file/get/2591378259?profile=original
ATTENDEE;ROLE=REQ-PARTICIPANT;PARTSTAT=ACCEPTED;RSVP=TRUE;CN="Derek Wi
 lliamson":https://networkinginsurrey.co.uk/profile/DerekWilliamson
ATTENDEE;ROLE=REQ-PARTICIPANT;PARTSTAT=TENTATIVE;RSVP=TRUE;CN="Keith G
 rover, NiS Founder":https://networkinginsurrey.co.uk/profile/KeithGrov
 er
END:VEVENT
END:VCALENDAR
