BEGIN:VCALENDAR
PRODID:NingEventWidget-v1
VERSION:2.0
METHOD:PUBLISH
BEGIN:VTIMEZONE
TZID:Europe/London
X-LIC-LOCATION:Europe/London
BEGIN:DAYLIGHT
TZOFFSETFROM:+0000
TZOFFSETTO:+0100
TZNAME:BST
DTSTART:19700329T010000
RRULE:FREQ=YEARLY;BYMONTH=3;BYDAY=-1SU
END:DAYLIGHT
BEGIN:STANDARD
TZOFFSETFROM:+0100
TZOFFSETTO:+0000
TZNAME:GMT
DTSTART:19701025T020000
RRULE:FREQ=YEARLY;BYMONTH=10;BYDAY=-1SU
END:STANDARD
END:VTIMEZONE
BEGIN:VEVENT
UID:4626108:Event:3226
DTSTAMP:20260425T143554Z
SUMMARY:4Networking Business Breakfast, Woking
DESCRIPTION:4Networking Business Breakfast\n\nA 4Networking business b
 reakfast is the most effective way to promote your business and servic
 es through networking... our dynamic format allows you to quickly buil
 d contacts, leads and win new business.\n4Sight Speaker - Elvira Villa
 rini (E-motion NLP)\nWhy do we sometimes communicate so ineffectively?
  Have you thought why at times your message is misunderstood? The NLP 
 Communication Model has the answers!\n\nCOST £10.00 per person MEMBER
 S BOOK HERE\nNon-members can register for FREE online membership to co
 me along for a trial meeting and enjoy 'the 4Networking experience' - 
 give it a go!\nVENUE\n\nMAP & DIRECTIONS\n----------------------------
 ------------\n4Networking has 24,000 members and 200 linked breakfast 
 groups around the country. Following breakfast and the 4Sight speaker,
  you'll then have 3, 10 minute appointments, these 1-1s work brilliant
 ly and allow you to fast track new business relationships. The group h
 as an unstuffy culture, people attend because they want to, not becaus
 e they have to. Members can attend any group in the country and anyone
  is welcome. See details on our website www.4networking.biz\n\nFor mor
 e information visit https://networkinginsurrey.co.uk/events/4networkin
 g-business-breakfast-149
DTSTART;TZID=Europe/London:20100722T080000
DTEND;TZID=Europe/London:20100722T100000
CATEGORIES:breakfast, woking, 4networking, business_networking_surrey
LOCATION:The Talbot, Ripley, Nr Woking GU23 6BB
WEBSITE:http://www.4networking.biz/events/11996.htm
URL:http://www.4networking.biz/events/11996.htm
CONTACT:
ORGANIZER:Paul Sampson
ATTACH;FMTTYPE="image/jpeg":http://storage.ning.com/topology/rest/1.0/
 file/get/2591378301?profile=original
ATTENDEE;ROLE=REQ-PARTICIPANT;PARTSTAT=ACCEPTED;RSVP=TRUE;CN="Keith Gr
 over, NiS Founder":https://networkinginsurrey.co.uk/profile/KeithGrove
 r
END:VEVENT
END:VCALENDAR
