BEGIN:VCALENDAR
PRODID:NingEventWidget-v1
VERSION:2.0
METHOD:PUBLISH
BEGIN:VTIMEZONE
TZID:Europe/London
X-LIC-LOCATION:Europe/London
BEGIN:DAYLIGHT
TZOFFSETFROM:+0000
TZOFFSETTO:+0100
TZNAME:BST
DTSTART:19700329T010000
RRULE:FREQ=YEARLY;BYMONTH=3;BYDAY=-1SU
END:DAYLIGHT
BEGIN:STANDARD
TZOFFSETFROM:+0100
TZOFFSETTO:+0000
TZNAME:GMT
DTSTART:19701025T020000
RRULE:FREQ=YEARLY;BYMONTH=10;BYDAY=-1SU
END:STANDARD
END:VTIMEZONE
BEGIN:VEVENT
UID:4626108:Event:2220
DTSTAMP:20260425T231353Z
SUMMARY:4Networking Business Breakfast, Walton & Weybridge
DESCRIPTION:4Networking Business Breakfast, Walton & Weybridge\n\nA 4N
 etworking business breakfast is the most effective way to promote your
  business and services through networking...\nOur dynamic format allow
 s you to quickly build contacts, leads and win new business. Today's 4
 Sight Speaker is Regional Leader Gordon Hewett on making the most of y
 our 4N membership\nCOST £10.00 per person BOOK HERE\nNon-members can 
 register for FREE online membership to come along for a trial meeting 
 (cost £10) and enjoy 'the 4Networking experience' - give it a go!\nMA
 P\nVENUE\n----------------------------------------\n4Networking has 24
 ,000 members and 200 linked breakfast groups around the country. Follo
 wing breakfast and the 4Sight speaker, you'll then have 3, 10 minute a
 ppointments, these 1-1s work brilliantly and allow you to fast track n
 ew business relationships. The group has an unstuffy culture, people a
 ttend because they want to, not because they have to. Members can atte
 nd any group in the country and anyone is welcome. See details on our 
 website www.4networking.biz\n\nFor more information visit https://netw
 orkinginsurrey.co.uk/events/4networking-business-breakfast-12
DTSTART;TZID=Europe/London:20100507T080000
DTEND;TZID=Europe/London:20100507T100000
CATEGORIES:breakfast, walton, weybridge, 4networking
LOCATION:The Swan, Walton-on-Thames KT12 2PF
WEBSITE:http://www.4networking.biz/events/11882.htm
URL:http://www.4networking.biz/events/11882.htm
CONTACT:
ORGANIZER:Sonia Duggan
ATTACH;FMTTYPE="image/jpeg":http://storage.ning.com/topology/rest/1.0/
 file/get/2591379824?profile=original
ATTENDEE;ROLE=REQ-PARTICIPANT;PARTSTAT=ACCEPTED;RSVP=TRUE;CN="Keith Gr
 over, NiS Founder":https://networkinginsurrey.co.uk/profile/KeithGrove
 r
END:VEVENT
END:VCALENDAR
