BEGIN:VCALENDAR
PRODID:NingEventWidget-v1
VERSION:2.0
METHOD:PUBLISH
BEGIN:VTIMEZONE
TZID:Europe/London
X-LIC-LOCATION:Europe/London
BEGIN:DAYLIGHT
TZOFFSETFROM:+0000
TZOFFSETTO:+0100
TZNAME:BST
DTSTART:19700329T010000
RRULE:FREQ=YEARLY;BYMONTH=3;BYDAY=-1SU
END:DAYLIGHT
BEGIN:STANDARD
TZOFFSETFROM:+0100
TZOFFSETTO:+0000
TZNAME:GMT
DTSTART:19701025T020000
RRULE:FREQ=YEARLY;BYMONTH=10;BYDAY=-1SU
END:STANDARD
END:VTIMEZONE
BEGIN:VEVENT
UID:4626108:Event:1774
DTSTAMP:20260425T232125Z
SUMMARY:4Networking Business Breakfast, Epsom
DESCRIPTION:\nA 4Networking business breakfast is the most effective w
 ay to promote your business and services through networking... our dyn
 amic format allows you to quickly build contacts, leads and win new bu
 siness.\n4Sight Speaker - Lisa Blackler (Honesty Marketing)\n[to be co
 nfirmed]\nCOST £10.00 per person MEMBERS BOOK HERE\nNon-members can r
 egister for FREE online membership to come along for a trial meeting (
 cost £10) and enjoy 'the 4Networking experience' - give it a go!\n---
 -------------------------------------\n4Networking has 24,000 members 
 and 200 linked breakfast groups around the country. Following breakfas
 t and the 4Sight speaker, you'll then have 3, 10 minute appointments, 
 these 1-1s work brilliantly and allow you to fast track new business r
 elationships. The group has an unstuffy culture, people attend because
  they want to, not because they have to. Members can attend any group 
 in the country and anyone is welcome. See details on our website www.4
 networking.biz\n\nFor more information visit https://networkinginsurre
 y.co.uk/events/4networking-business-breakfast-11
DTSTART;TZID=Europe/London:20100428T080000
DTEND;TZID=Europe/London:20100428T100000
CATEGORIES:breakfast, epsom, 4networking
LOCATION:The Haywain, Epsom KT18 7LB
WEBSITE:http://www.4networking.biz/events/10510.htm
URL:http://www.4networking.biz/events/10510.htm
CONTACT:
ORGANIZER:Magic Friedman
ATTACH;FMTTYPE="image/jpeg":http://storage.ning.com/topology/rest/1.0/
 file/get/2591379163?profile=original
ATTENDEE;ROLE=REQ-PARTICIPANT;PARTSTAT=ACCEPTED;RSVP=TRUE;CN="Derek Wi
 lliamson":https://networkinginsurrey.co.uk/profile/DerekWilliamson
END:VEVENT
END:VCALENDAR
