BEGIN:VCALENDAR
PRODID:NingEventWidget-v1
VERSION:2.0
METHOD:PUBLISH
BEGIN:VTIMEZONE
TZID:Europe/London
X-LIC-LOCATION:Europe/London
BEGIN:DAYLIGHT
TZOFFSETFROM:+0000
TZOFFSETTO:+0100
TZNAME:BST
DTSTART:19700329T010000
RRULE:FREQ=YEARLY;BYMONTH=3;BYDAY=-1SU
END:DAYLIGHT
BEGIN:STANDARD
TZOFFSETFROM:+0100
TZOFFSETTO:+0000
TZNAME:GMT
DTSTART:19701025T020000
RRULE:FREQ=YEARLY;BYMONTH=10;BYDAY=-1SU
END:STANDARD
END:VTIMEZONE
BEGIN:VEVENT
UID:4626108:Event:18525
DTSTAMP:20260423T150001Z
SUMMARY:4Networking Breakfast, Camberley
DESCRIPTION:4Networking Business Breakfast, Camberley\n\nThe Camberley
  group is vibrant, friendly and welcoming,\nThis weeks 4Sight slot fea
 tures 4N's Nigel Gilroy A Taste of Italy - Nigel's love affair with It
 aly started 45 years ago but it was when he met his wife to be and was
  introduced to 'The Family' that it really took off...\n \nCOST: £10
 .00 per person BOOK HERE\nNon-members can register for FREE online mem
 bership to come along for a trial meeting (cost £10) and enjoy 'the 4
 Networking experience' - give it a go! And 4N Members we'd love to see
  you again on Wednesday... come on down!\n\nMAP\n---------------------
 -------------------\n4Networking has 24,000 members and 200 linked bre
 akfast groups around the country. Following breakfast and the 4Sight s
 peaker, you'll then have 3, 10 minute appointments, these 1-1s work br
 illiantly and allow you to fast track new business relationships. The 
 group has an unstuffy culture, people attend because they want to, not
  because they have to. Members can attend any group in the country and
  anyone is welcome. See details on our website www.4networking.biz\n\n
 For more information visit https://networkinginsurrey.co.uk/events/4ne
 tworking-breakfast
DTSTART;TZID=Europe/London:20110525T080000
DTEND;TZID=Europe/London:20110525T100000
CATEGORIES:breakfast, 4networking, camberley, bagshot, business_networ
 king
LOCATION:The Cricketers (Beefeater), Bagshot GU19 5HR
WEBSITE:http://www.4networking.biz/Events/Details/18554
URL:http://www.4networking.biz/Events/Details/18554
CONTACT:
ORGANIZER:Martin Horswood (Group Leader)
ATTACH;FMTTYPE="image/jpeg":http://storage.ning.com/topology/rest/1.0/
 file/get/2591375516?profile=original
ATTENDEE;ROLE=REQ-PARTICIPANT;PARTSTAT=ACCEPTED;RSVP=TRUE;CN="Martin H
 orswood":https://networkinginsurrey.co.uk/profile/MartinHorswood
END:VEVENT
END:VCALENDAR
