BEGIN:VCALENDAR
PRODID:NingEventWidget-v1
VERSION:2.0
METHOD:PUBLISH
BEGIN:VTIMEZONE
TZID:Europe/London
X-LIC-LOCATION:Europe/London
BEGIN:DAYLIGHT
TZOFFSETFROM:+0000
TZOFFSETTO:+0100
TZNAME:BST
DTSTART:19700329T010000
RRULE:FREQ=YEARLY;BYMONTH=3;BYDAY=-1SU
END:DAYLIGHT
BEGIN:STANDARD
TZOFFSETFROM:+0100
TZOFFSETTO:+0000
TZNAME:GMT
DTSTART:19701025T020000
RRULE:FREQ=YEARLY;BYMONTH=10;BYDAY=-1SU
END:STANDARD
END:VTIMEZONE
BEGIN:VEVENT
UID:4626108:Event:38713
DTSTAMP:20260421T104055Z
SUMMARY:4Networking Breakfast, Walton on Thames
DESCRIPTION:4Networking Business Breakfast at The Swan\n\nOur dynamic 
 format allows you to quickly build contacts, leads and win new busines
 s. The Walton group is very lively, friendly and welcoming, The Swan i
 s an excellent riverside venue, and the continental breakfasts here ar
 e first class!\n4Sight SlotHow to get the best out of networking!Keith
  Grover (NetworkingInSurrey.com)\nNetworking in Surrey's very own Keit
 h Grover shares his tips on how to get the best out of networking in g
 eneral - taking into account the networking you do between events - or
  should be...\nCOST: £10 meeting fee (includes breakast)\nCLICK HERE 
 TO BOOK 4N Members we'd love to see you again this Friday... come on d
 own!\nNon-members can register for FREE online membership to come alon
 g for a trial meeting (cost £10) and enjoy 'the 4Networking experienc
 e' - give it a go! Alternatively email John Edward at enquiries@bestmo
 rtgage4u.com who will be pleased to help you to book as a Visitor.\nMA
 P\nVENUE\n----------------------------------------\n4Networking has 34
 ,000 members and 300linked breakfast groups around the country. Follow
 ing breakfast and the 4Sight speaker, you'll then have 3, 10 minute ap
 pointments, these 1-1s work brilliantly and allow you to fast track ne
 w business relationships. The group has an unstuffy culture, people at
 tend because they want to, not because they have to. Members can atten
 d any group in the country and anyone is welcome. See details on our w
 ebsite www.4networking.biz\n\nFor more information visit https://netwo
 rkinginsurrey.co.uk/events/4networking-breakfast-walton-on-thames-4
DTSTART;TZID=Europe/London:20111202T200000
DTEND;TZID=Europe/London:20111202T220000
CATEGORIES:breakfast, walton, weybridge, 4networking, business_network
 ing
LOCATION:The Swan KT12 2PF
WEBSITE:http://www.4networking.biz/Events/Details/22814
URL:http://www.4networking.biz/Events/Details/22814
CONTACT:01932 845814
ORGANIZER;CN="Keith Grover, NiS Founder":https://networkinginsurrey.co
 .uk/profile/KeithGrover
ATTACH;FMTTYPE="image/jpeg":http://storage.ning.com/topology/rest/1.0/
 file/get/2591379824?profile=original
ATTENDEE;ROLE=REQ-PARTICIPANT;PARTSTAT=ACCEPTED;RSVP=TRUE;CN="Keith Gr
 over, NiS Founder":https://networkinginsurrey.co.uk/profile/KeithGrove
 r
END:VEVENT
END:VCALENDAR
