BEGIN:VCALENDAR
PRODID:NingEventWidget-v1
VERSION:2.0
METHOD:PUBLISH
BEGIN:VTIMEZONE
TZID:Europe/London
X-LIC-LOCATION:Europe/London
BEGIN:DAYLIGHT
TZOFFSETFROM:+0000
TZOFFSETTO:+0100
TZNAME:BST
DTSTART:19700329T010000
RRULE:FREQ=YEARLY;BYMONTH=3;BYDAY=-1SU
END:DAYLIGHT
BEGIN:STANDARD
TZOFFSETFROM:+0100
TZOFFSETTO:+0000
TZNAME:GMT
DTSTART:19701025T020000
RRULE:FREQ=YEARLY;BYMONTH=10;BYDAY=-1SU
END:STANDARD
END:VTIMEZONE
BEGIN:VEVENT
UID:4626108:Event:36904
DTSTAMP:20260421T133441Z
SUMMARY:4Networking Breakfast, Walton on Thames
DESCRIPTION:4Networking Business Breakfast at The Swan\n\nOur dynamic 
 format allows you to quickly build contacts, leads and win new busines
 s. The Walton group is very lively, friendly and welcoming, The Swan 
 is an excellent riverside venue, and the continental breakfasts here a
 re first class! \nToday's 4sight is by 'Magic Theo'!\n Magic Storie
 s of Teaching Des O'Conner & Mel Sykes Plate Spinning Live on TV, Ente
 rtaining Leo Sayer to Massaging Sharon Davis with his other Hat On As 
 A Mobile Massage Therapist, some Magical Marketing Ideas and a few exa
 mples of Events, which has helped him raise over £200,000 for differe
 nt Charities. If he can do all this in 10 minutes, he must be Magic!\
 nCOST: £10 meeting fee (includes breakast)\nCLICK HERE TO BOOK 4N Me
 mbers we'd love to see you again this Friday... come on down!\nNon-mem
 bers can register for FREE online membership to come along for a trial
  meeting (cost £10) and enjoy 'the 4Networking experience' - give it 
 a go! Alternatively email John Edward at enquiries@bestmortgage4u.com
  who will be pleased to help you to book as a Visitor.\nMAP\nVENUE\n--
 --------------------------------------\n4Networking has 35,000 members
  and 300 linked breakfast groups around the country. Following breakfa
 st and the 4Sight speaker, you'll then have 3, 10 minute appointments,
  these 1-1s work brilliantly and allow you to fast track new business 
 relationships. The group has an unstuffy culture, people attend becaus
 e they want to, not because they have to. Members can attend any group
  in the country and anyone is welcome. See details on our website www.
 4networking.biz\nFIND ALL SURREY 4N MEETINGS ON ONE PAGE here on NiS\n
 \nFor more information visit https://networkinginsurrey.co.uk/events/4
 networking-breakfast-walton-on-thames-3
DTSTART;TZID=Europe/London:20111118T080000
DTEND;TZID=Europe/London:20111118T100000
CATEGORIES:breakfast, walton, weybridge, 4networking, business_network
 ing
LOCATION:The Swan KT12 2PF
WEBSITE:http://www.4networking.biz/Events/Group/Walton%20-%20Weybridge
URL:http://www.4networking.biz/Events/Group/Walton%20-%20Weybridge
CONTACT:01932 845814
ORGANIZER;CN="Keith Grover, NiS Founder":https://networkinginsurrey.co
 .uk/profile/KeithGrover
ATTACH;FMTTYPE="image/jpeg":http://storage.ning.com/topology/rest/1.0/
 file/get/2591379824?profile=original
ATTENDEE;ROLE=REQ-PARTICIPANT;PARTSTAT=ACCEPTED;RSVP=TRUE;CN="Keith Gr
 over, NiS Founder":https://networkinginsurrey.co.uk/profile/KeithGrove
 r
END:VEVENT
END:VCALENDAR
