BEGIN:VCALENDAR
PRODID:NingEventWidget-v1
VERSION:2.0
METHOD:PUBLISH
BEGIN:VTIMEZONE
TZID:Europe/London
X-LIC-LOCATION:Europe/London
BEGIN:DAYLIGHT
TZOFFSETFROM:+0000
TZOFFSETTO:+0100
TZNAME:BST
DTSTART:19700329T010000
RRULE:FREQ=YEARLY;BYMONTH=3;BYDAY=-1SU
END:DAYLIGHT
BEGIN:STANDARD
TZOFFSETFROM:+0100
TZOFFSETTO:+0000
TZNAME:GMT
DTSTART:19701025T020000
RRULE:FREQ=YEARLY;BYMONTH=10;BYDAY=-1SU
END:STANDARD
END:VTIMEZONE
BEGIN:VEVENT
UID:4626108:Event:90925
DTSTAMP:20260423T153308Z
SUMMARY:4Networking Breakfast Reigate
DESCRIPTION:4Networking Breakfast at the Reigate Manor Hotel\nNetworki
 ng at its best: 40 seconds pitch, 3 x 10 mins 1-2-1 business appointme
 nts and a 4Sight (an insight, not a sales pitch) from Mark Hickman of 
 Affinity Hosting - \"Warp Speed Your Website: Web Hosting, The Next Ge
 n\".\nThe meeting will be 50% business & 50% social ... and it works!\
 nCOST: £15 meeting fee including breakfast\nBOOKING: Please CLICK
  HERE to book\nMAP\n\nFor more information visit https://networkingin
 surrey.co.uk/events/4networking-breakfast-reigate-4
DTSTART;TZID=Europe/London:20170830T080000
DTEND;TZID=Europe/London:20170830T100000
CATEGORIES:business, networking, breakfast
LOCATION:Reigate Manor Hotel
WEBSITE:https://www.google.co.uk/maps/place/Reigate+RH2+9PF/@51.248912
 ,-0.2052923,17z
URL:https://www.google.co.uk/maps/place/Reigate+RH2+9PF/@51.248912,-0.
 2052923,17z
CONTACT:0345 123 4444
ORGANIZER;CN="Richard Peers":https://networkinginsurrey.co.uk/profile/
 RichardPeers
ATTACH;FMTTYPE="image/jpeg":http://storage.ning.com/topology/rest/1.0/
 file/get/2591464279?profile=original
ATTENDEE;ROLE=REQ-PARTICIPANT;PARTSTAT=ACCEPTED;RSVP=TRUE;CN="Richard 
 Peers":https://networkinginsurrey.co.uk/profile/RichardPeers
END:VEVENT
END:VCALENDAR
