BEGIN:VCALENDAR
PRODID:NingEventWidget-v1
VERSION:2.0
METHOD:PUBLISH
BEGIN:VTIMEZONE
TZID:Europe/London
X-LIC-LOCATION:Europe/London
BEGIN:DAYLIGHT
TZOFFSETFROM:+0000
TZOFFSETTO:+0100
TZNAME:BST
DTSTART:19700329T010000
RRULE:FREQ=YEARLY;BYMONTH=3;BYDAY=-1SU
END:DAYLIGHT
BEGIN:STANDARD
TZOFFSETFROM:+0100
TZOFFSETTO:+0000
TZNAME:GMT
DTSTART:19701025T020000
RRULE:FREQ=YEARLY;BYMONTH=10;BYDAY=-1SU
END:STANDARD
END:VTIMEZONE
BEGIN:VEVENT
UID:4626108:Event:98838
DTSTAMP:20260425T030653Z
SUMMARY:4Networking Breakfast, Guildford
DESCRIPTION:4Networking Breakfast at the Parkway Beefeater\n\n4Network
 ing Breakfast at the Parkway Beefeater\nNetworking at its best: 40 sec
 onds pitch, 3 x 10 mins 1-2-1 business appointments and a 4Sight (an i
 nsight, not a sales pitch). Today's 4Sight is from Steve Doyle - who w
 ill be telling us how to connect to (almost) anyone in the world using
  LinkedIn.\n.  The meeting will be 50% business & 50% social ... and 
 it works!\nCOST: £15 meeting fee including breakfast\nBOOKING: Ple
 ase CLICK HERE to book \nMAP\nParking is free for customers\n--------
 -------------------------\n Find more local 4Networking meetings h
 ere on NiS...\n\nFor more information visit https://networkinginsurrey
 .co.uk/events/4networking-breakfast-guildford-8
DTSTART;TZID=Europe/London:20180619T080000
DTEND;TZID=Europe/London:20180619T100000
CATEGORIES:business, networking, breakfast, guildford
LOCATION:Guildford Premier Inn / Beefeater
WEBSITE:
URL:
CONTACT:
ORGANIZER;CN="Graham Harding":https://networkinginsurrey.co.uk/profile
 /GrahamHarding
ATTACH;FMTTYPE="image/jpeg":http://storage.ning.com/topology/rest/1.0/
 file/get/2470851412?profile=original
ATTENDEE;ROLE=REQ-PARTICIPANT;PARTSTAT=ACCEPTED;RSVP=TRUE;CN="Graham H
 arding":https://networkinginsurrey.co.uk/profile/GrahamHarding
END:VEVENT
END:VCALENDAR
