BEGIN:VCALENDAR
PRODID:NingEventWidget-v1
VERSION:2.0
METHOD:PUBLISH
BEGIN:VTIMEZONE
TZID:Europe/London
X-LIC-LOCATION:Europe/London
BEGIN:DAYLIGHT
TZOFFSETFROM:+0000
TZOFFSETTO:+0100
TZNAME:BST
DTSTART:19700329T010000
RRULE:FREQ=YEARLY;BYMONTH=3;BYDAY=-1SU
END:DAYLIGHT
BEGIN:STANDARD
TZOFFSETFROM:+0100
TZOFFSETTO:+0000
TZNAME:GMT
DTSTART:19701025T020000
RRULE:FREQ=YEARLY;BYMONTH=10;BYDAY=-1SU
END:STANDARD
END:VTIMEZONE
BEGIN:VEVENT
UID:4626108:Event:2538
DTSTAMP:20260426T004639Z
SUMMARY:4Networking Breakfast, Farnham
DESCRIPTION:\n4Sight Speaker Susan Shaw (Shaws Wills and Trusts)\n\nWi
 lls - do I blag it through the Web, take a chance or really screw up m
 y last wishes to my family?\nCOST: £10.00 per person (including break
 fast)\nBOOK HERE\nNon-members can register for FREE online membership 
 to come along for a trial meeting and enjoy 'the 4Networking experienc
 e' - give it a go!\nDIRECTIONS\nVENUE\n-------------------------------
 ---------\n4Networking has 24,000 members and 200 linked breakfast gro
 ups around the country.\nThe group has an unstuffy culture, people att
 end because they want to, not because they have to. Members can attend
  any group in the country and anyone is welcome. See details on our we
 bsite www.4networking.biz\n\nFor more information visit https://networ
 kinginsurrey.co.uk/events/4networking-breakfast-farnham
DTSTART;TZID=Europe/London:20100602T080000
DTEND;TZID=Europe/London:20100602T100000
CATEGORIES:breakfast, farnham, 4networking, business_networking
LOCATION:Farnham Golf Club, Farnham GU10 1PX
WEBSITE:http://www.4networking.biz/events/11089.htm
URL:http://www.4networking.biz/events/11089.htm
CONTACT:07973 392838
ORGANIZER:Rob Williams
ATTACH;FMTTYPE="image/jpeg":http://storage.ning.com/topology/rest/1.0/
 file/get/2591380309?profile=original
END:VEVENT
END:VCALENDAR
