BEGIN:VCALENDAR
PRODID:NingEventWidget-v1
VERSION:2.0
METHOD:PUBLISH
BEGIN:VTIMEZONE
TZID:Europe/London
X-LIC-LOCATION:Europe/London
BEGIN:DAYLIGHT
TZOFFSETFROM:+0000
TZOFFSETTO:+0100
TZNAME:BST
DTSTART:19700329T010000
RRULE:FREQ=YEARLY;BYMONTH=3;BYDAY=-1SU
END:DAYLIGHT
BEGIN:STANDARD
TZOFFSETFROM:+0100
TZOFFSETTO:+0000
TZNAME:GMT
DTSTART:19701025T020000
RRULE:FREQ=YEARLY;BYMONTH=10;BYDAY=-1SU
END:STANDARD
END:VTIMEZONE
BEGIN:VEVENT
UID:4626108:Event:2987
DTSTAMP:20260425T174049Z
SUMMARY:4Networking Breakfast, Farnham
DESCRIPTION:\n4Sight Speaker Roger Parsonson (Gu9 Creative) - 'How man
 y of the 17 different ways to get qualified visitors to your website a
 re you using?'\nCOST: £10.00 per person (including breakfast)\nBOOK H
 ERE\nNon-members can register for FREE online membership to come along
  for a trial meeting and enjoy 'the 4Networking experience' - give it 
 a go!\nDIRECTIONS\nVENUE\n----------------------------------------\n4N
 etworking has 24,000 members and 200 linked breakfast groups around th
 e country.\nThe group has an unstuffy culture, people attend because t
 hey want to, not because they have to. Members can attend any group in
  the country and anyone is welcome. See details on our website www.4ne
 tworking.biz\n\nFor more information visit https://networkinginsurrey.
 co.uk/events/4networking-breakfast-farnham-2
DTSTART;TZID=Europe/London:20100616T080000
DTEND;TZID=Europe/London:20100616T100000
CATEGORIES:breakfast, farnham, 4networking, business_networking
LOCATION:Farnham Golf Club, Farnham GU10 1PX
WEBSITE:http://www.4networking.biz/events/11346.htm
URL:http://www.4networking.biz/events/11346.htm
CONTACT:07973 392838
ORGANIZER:Rob Williams
ATTACH;FMTTYPE="image/jpeg":http://storage.ning.com/topology/rest/1.0/
 file/get/2591380309?profile=original
ATTENDEE;ROLE=REQ-PARTICIPANT;PARTSTAT=ACCEPTED;RSVP=TRUE;CN="Keith Gr
 over, NiS Founder":https://networkinginsurrey.co.uk/profile/KeithGrove
 r
END:VEVENT
END:VCALENDAR
