BEGIN:VCALENDAR
PRODID:NingEventWidget-v1
VERSION:2.0
METHOD:PUBLISH
BEGIN:VTIMEZONE
TZID:Europe/London
X-LIC-LOCATION:Europe/London
BEGIN:DAYLIGHT
TZOFFSETFROM:+0000
TZOFFSETTO:+0100
TZNAME:BST
DTSTART:19700329T010000
RRULE:FREQ=YEARLY;BYMONTH=3;BYDAY=-1SU
END:DAYLIGHT
BEGIN:STANDARD
TZOFFSETFROM:+0100
TZOFFSETTO:+0000
TZNAME:GMT
DTSTART:19701025T020000
RRULE:FREQ=YEARLY;BYMONTH=10;BYDAY=-1SU
END:STANDARD
END:VTIMEZONE
BEGIN:VEVENT
UID:4626108:Event:86572
DTSTAMP:20260424T034937Z
SUMMARY:4Networking Breakfast, Farnham
DESCRIPTION:4Networking Breakfast at the Princess Royal, Farnham\n\nBu
 siness Breakfast at its best - lots of time for open networking, three
  121 meetings, everyone gets to pitch for 40 seconds round. The 4sight
 , not  a sales pitch, is entitled \"What Usain Bolt knows about Publi
 c Speaking\"  presented by Dawn Gregory.\nThe meeting will be 50% bus
 iness & 50% social ...& it works!   \nCOST: £15 meeting fee includ
 ing breakfast\nBOOKING: Please CLICK HERE  to book\nMAP\n \n\nFor m
 ore information visit https://networkinginsurrey.co.uk/events/4network
 ing-breakfast-farnham-14
DTSTART;TZID=Europe/London:20170329T080000
DTEND;TZID=Europe/London:20170329T100000
CATEGORIES:farnham, 4networking, breakfast
LOCATION:The Princess Roya GU10 1NX
WEBSITE:
URL:
CONTACT:01276 33718
ORGANIZER;CN="Graham Harding":https://networkinginsurrey.co.uk/profile
 /GrahamHarding
ATTACH;FMTTYPE="image/jpeg":http://storage.ning.com/topology/rest/1.0/
 file/get/2591458489?profile=original
ATTENDEE;ROLE=REQ-PARTICIPANT;PARTSTAT=ACCEPTED;RSVP=TRUE;CN="Graham H
 arding":https://networkinginsurrey.co.uk/profile/GrahamHarding
END:VEVENT
END:VCALENDAR
