BEGIN:VCALENDAR
PRODID:NingEventWidget-v1
VERSION:2.0
METHOD:PUBLISH
BEGIN:VTIMEZONE
TZID:Europe/London
X-LIC-LOCATION:Europe/London
BEGIN:DAYLIGHT
TZOFFSETFROM:+0000
TZOFFSETTO:+0100
TZNAME:BST
DTSTART:19700329T010000
RRULE:FREQ=YEARLY;BYMONTH=3;BYDAY=-1SU
END:DAYLIGHT
BEGIN:STANDARD
TZOFFSETFROM:+0100
TZOFFSETTO:+0000
TZNAME:GMT
DTSTART:19701025T020000
RRULE:FREQ=YEARLY;BYMONTH=10;BYDAY=-1SU
END:STANDARD
END:VTIMEZONE
BEGIN:VEVENT
UID:4626108:Event:10375
DTSTAMP:20260422T114519Z
SUMMARY:4Networking Breakfast Charity Auction, Reigate
DESCRIPTION:Breakfast Charity Auction at the Jolly Farmers\n \nOn 23r
 d March, the Reigate 4Networking breakfast group will be hosting an au
 ction of promises and prizes.\n All money raised will be donated to M
 arie Curie Cancer Care in support of one of our members, Carol Munro, 
 who will be climbing Mount Kilimanjaro in the summer.\n Our 4N Members
  have been generous in donating prizes for Auction! Many 4N members an
 d personal friends have already donated their time and services for Ca
 rol and this auction is the Reigate 4N's group contribution. For it to
  be the best it can be, we need lots of people to attend. Please conta
 ct me if you would like to know more, to donate a prize or to attend. 
 As a taster, here are a few of the fab prizes up for grabs - A £250 v
 oucher for a full health MOT and consultation at The Healing Pond, Ban
 stead, a water ski lesson and a weeks holiday in Spain.\nCome along an
 d grab yourself a bargain and do some fun networking too!\nCOST: £10.
 00 per person including breakfast\nCLICK HERE TO BOOK  you will need
  to be booked into the event so that we can arrange catering please.\n
 MAP\n*** You can also contribute by attending Theo the Magician's Bowl
 ing & LaserQuest evening - see details here on NiS! ***\n------------
 ----------------------------\n4Networking has 24,000 members and 200 l
 inked breakfast groups around the country. Following breakfast and the
  4Sight speaker, you'll then have 3, 10 minute appointments, these 1-1
 s work brilliantly and allow you to fast track new business relationsh
 ips. The group has an unstuffy culture, people attend because they wan
 t to, not because they have to. Members can attend any group in the co
 untry and anyone is welcome. See details on our website www.4networkin
 g.biz\n﻿\n\nFor more information visit https://networkinginsurrey.co
 .uk/events/4networking-breakfast-charity
DTSTART;TZID=Europe/London:20110323T080000
DTEND;TZID=Europe/London:20110323T100000
CATEGORIES:fundraiser, breakfast, 4networking, business_networking
LOCATION:The Jolly Farmers RH3 7BG
WEBSITE:http://www.thejollyfarmersreigate.co.uk/
URL:http://www.thejollyfarmersreigate.co.uk/
CONTACT:01737 379 395
ORGANIZER:4Networking team at Reigate
ATTACH;FMTTYPE="image/jpeg":http://storage.ning.com/topology/rest/1.0/
 file/get/2591391201?profile=original
ATTENDEE;ROLE=REQ-PARTICIPANT;PARTSTAT=ACCEPTED;RSVP=TRUE;CN="Sue Cock
 s":https://networkinginsurrey.co.uk/profile/SueCocks
ATTENDEE;ROLE=REQ-PARTICIPANT;PARTSTAT=ACCEPTED;RSVP=TRUE;CN="Sam Mill
 ard":https://networkinginsurrey.co.uk/profile/SamMillard
END:VEVENT
END:VCALENDAR
