BEGIN:VCALENDAR
PRODID:NingEventWidget-v1
VERSION:2.0
METHOD:PUBLISH
BEGIN:VTIMEZONE
TZID:Europe/London
X-LIC-LOCATION:Europe/London
BEGIN:DAYLIGHT
TZOFFSETFROM:+0000
TZOFFSETTO:+0100
TZNAME:BST
DTSTART:19700329T010000
RRULE:FREQ=YEARLY;BYMONTH=3;BYDAY=-1SU
END:DAYLIGHT
BEGIN:STANDARD
TZOFFSETFROM:+0100
TZOFFSETTO:+0000
TZNAME:GMT
DTSTART:19701025T020000
RRULE:FREQ=YEARLY;BYMONTH=10;BYDAY=-1SU
END:STANDARD
END:VTIMEZONE
BEGIN:VEVENT
UID:4626108:Event:86484
DTSTAMP:20260424T195855Z
SUMMARY:4Networking Breakfast, Camberley
DESCRIPTION:4Networking Breakfast at the Windlesham Golf Club, Bagshot
 \n\nBusiness Breakfast at its best - lots of time for open networking,
  three 121 meetings, everyone gets to pitch for 40 seconds round. The 
 4sight, not  a sales pitch, is entitled \"Talk like TED\" presented b
 y 4Networking's Network Director, Michael Nagles. A great chance to as
 k your 4Networking question to a Director!  \n\nThe meeting will be 5
 0% business & 50% social ...& it works!   \nCOST: £15 meeting fee 
 including breakfast\nBOOKING: Please CLICK HERE to book\nMAP\n \n\
 nFor more information visit https://networkinginsurrey.co.uk/events/4n
 etworking-breakfast-camberley-8
DTSTART;TZID=Europe/London:20170322T080000
DTEND;TZID=Europe/London:20170322T100000
CATEGORIES:camberley, 4networking, breakfast
LOCATION:Windlesham Golf Club GU19 5HY
WEBSITE:
URL:
CONTACT:01276 33718
ORGANIZER;CN="Graham Harding":https://networkinginsurrey.co.uk/profile
 /GrahamHarding
ATTACH;FMTTYPE="image/jpeg":http://storage.ning.com/topology/rest/1.0/
 file/get/2591458489?profile=original
ATTENDEE;ROLE=REQ-PARTICIPANT;PARTSTAT=ACCEPTED;RSVP=TRUE;CN="Graham H
 arding":https://networkinginsurrey.co.uk/profile/GrahamHarding
END:VEVENT
END:VCALENDAR
