BEGIN:VCALENDAR
PRODID:NingEventWidget-v1
VERSION:2.0
METHOD:PUBLISH
BEGIN:VTIMEZONE
TZID:Europe/London
X-LIC-LOCATION:Europe/London
BEGIN:DAYLIGHT
TZOFFSETFROM:+0000
TZOFFSETTO:+0100
TZNAME:BST
DTSTART:19700329T010000
RRULE:FREQ=YEARLY;BYMONTH=3;BYDAY=-1SU
END:DAYLIGHT
BEGIN:STANDARD
TZOFFSETFROM:+0100
TZOFFSETTO:+0000
TZNAME:GMT
DTSTART:19701025T020000
RRULE:FREQ=YEARLY;BYMONTH=10;BYDAY=-1SU
END:STANDARD
END:VTIMEZONE
BEGIN:VEVENT
UID:4626108:Event:97781
DTSTAMP:20260422T205649Z
SUMMARY:4Networking Breakfast, Camberley
DESCRIPTION:4Networking Breakfast at the Windlesham Golf Club, Bagshot
 \r\n\r\nBusiness Breakfast at its best - lots of time for open network
 ing, three 121 meetings, everyone gets to pitch for 40 seconds round. 
 The 4sight, not  a sales pitch, is entitled \"Are you leaving enough 
 money on the table ?  presented by Gary Robinson.\r\nThe meeting will
  be 50% business & 50% social ...& it works!   \r\nCOST: £15 meeti
 ng fee including breakfast\r\nBOOKING: Please CLICK HERE to book\r\nM
 AP\r\n---------------------------------\r\n Find more local 4Network
 ing meetings here on NiS...\r\n \n\nFor more information visit http
 s://networkinginsurrey.co.uk/events/4networking-breakfast-camberley-28
 3
DTSTART;TZID=Europe/London:20180501T080000
DTEND;TZID=Europe/London:20180501T100000
CATEGORIES:camberley, 4networking, breakfast
LOCATION:Windlesham Golf Club GU19 5HY
WEBSITE:
URL:
CONTACT:01276 33718
ORGANIZER;CN="Graham Harding":https://networkinginsurrey.co.uk/profile
 /GrahamHarding
ATTACH;FMTTYPE="image/jpeg":http://storage.ning.com/topology/rest/1.0/
 file/get/2470851412?profile=original
ATTENDEE;ROLE=REQ-PARTICIPANT;PARTSTAT=ACCEPTED;RSVP=TRUE;CN="Graham H
 arding":https://networkinginsurrey.co.uk/profile/GrahamHarding
END:VEVENT
END:VCALENDAR
