BEGIN:VCALENDAR
PRODID:NingEventWidget-v1
VERSION:2.0
METHOD:PUBLISH
BEGIN:VTIMEZONE
TZID:Europe/London
X-LIC-LOCATION:Europe/London
BEGIN:DAYLIGHT
TZOFFSETFROM:+0000
TZOFFSETTO:+0100
TZNAME:BST
DTSTART:19700329T010000
RRULE:FREQ=YEARLY;BYMONTH=3;BYDAY=-1SU
END:DAYLIGHT
BEGIN:STANDARD
TZOFFSETFROM:+0100
TZOFFSETTO:+0000
TZNAME:GMT
DTSTART:19701025T020000
RRULE:FREQ=YEARLY;BYMONTH=10;BYDAY=-1SU
END:STANDARD
END:VTIMEZONE
BEGIN:VEVENT
UID:4626108:Event:87733
DTSTAMP:20260424T005515Z
SUMMARY:4Networking Breakfast, Camberley
DESCRIPTION:4Networking Breakfast at the Windlesham Golf Club, Bagshot
 \n\nBusiness Breakfast at its best - lots of time for open networking,
  three 121 meetings, everyone gets to pitch for 40 seconds round. The 
 4sight, notÂ  a sales pitch, is entitled \"How a bit of paper can chan
 ge lives\" presentedÂ  by Adam Redshaw.\n(Adam runs the UK Geocaching 
 Magazine .. so if you want to know more about geocaching, why not come
  along and meet him).\nThe meeting will be 50% business & 50% social .
 ..& it works!Â \nCOST: Â£15 meeting fee including breakfast\nBOOKING:Â
  PleaseÂ CLICK HEREÂ Â to book\nMAP\n-------------------------------\n
 Find more local 4Networking events here on Networking in Surrey...\n\n
 For more information visit https://networkinginsurrey.co.uk/events/4ne
 tworking-breakfast-camberley-10
DTSTART;TZID=Europe/London:20170419T080000
DTEND;TZID=Europe/London:20170419T100000
CATEGORIES:camberley, 4networking, breakfast
LOCATION:Windlesham Golf Club GU19 5HY
WEBSITE:
URL:
CONTACT:01276 33718
ORGANIZER;CN="Graham Harding":https://networkinginsurrey.co.uk/profile
 /GrahamHarding
ATTACH;FMTTYPE="image/jpeg":http://storage.ning.com/topology/rest/1.0/
 file/get/2591458489?profile=original
ATTENDEE;ROLE=REQ-PARTICIPANT;PARTSTAT=ACCEPTED;RSVP=TRUE;CN="Graham H
 arding":https://networkinginsurrey.co.uk/profile/GrahamHarding
END:VEVENT
END:VCALENDAR
