BEGIN:VCALENDAR
PRODID:NingEventWidget-v1
VERSION:2.0
METHOD:PUBLISH
BEGIN:VTIMEZONE
TZID:Europe/London
X-LIC-LOCATION:Europe/London
BEGIN:DAYLIGHT
TZOFFSETFROM:+0000
TZOFFSETTO:+0100
TZNAME:BST
DTSTART:19700329T010000
RRULE:FREQ=YEARLY;BYMONTH=3;BYDAY=-1SU
END:DAYLIGHT
BEGIN:STANDARD
TZOFFSETFROM:+0100
TZOFFSETTO:+0000
TZNAME:GMT
DTSTART:19701025T020000
RRULE:FREQ=YEARLY;BYMONTH=10;BYDAY=-1SU
END:STANDARD
END:VTIMEZONE
BEGIN:VEVENT
UID:4626108:Event:19725
DTSTAMP:20260424T033429Z
SUMMARY:4Networking Breakfast, Camberley
DESCRIPTION:4Networking Business Breakfast, Camberley\n\nThe Camberley
  group is vibrant, friendly and welcoming,\nThis weeks 4Sight slot fea
 tures 4N's Gillian Berry (Glendale Acupuncture Clinic)\n\nWhat your Ea
 rs tell you about YOU!Come and 'ear about the Chinese method of health
  and healing involving your ears!\n \nCOST: £10.00 per person BOOK H
 ERE\nNon-members can register for FREE online membership to come along
  for a trial meeting (cost £10) and enjoy 'the 4Networking experience
 ' - give it a go! And 4N Members we'd love to see you again on Wednesd
 ay... come on down!\nMAP\n--------------------------------------------
 ------\n4Networking has 24,000 members and 200 linked breakfast groups
  around the country. Following breakfast and the 4Sight speaker, you'l
 l then have 3, 10 minute appointments, these 1-1s work brilliantly and
  allow you to fast track new business relationships. The group has an 
 unstuffy culture, people attend because they want to, not because they
  have to. Members can attend any group in the country and anyone is we
 lcome. See details on our website www.4networking.biz\n\nFor more info
 rmation visit https://networkinginsurrey.co.uk/events/4networking-brea
 kfast-1
DTSTART;TZID=Europe/London:20110608T080000
DTEND;TZID=Europe/London:20110608T100000
CATEGORIES:breakfast, 4networking, camberley, bagshot, business_networ
 king
LOCATION:The Cricketers (Beefeater), Bagshot
WEBSITE:http://www.4networking.biz/Events/Details/18555
URL:http://www.4networking.biz/Events/Details/18555
CONTACT:
ORGANIZER;CN="Martin Horswood":https://networkinginsurrey.co.uk/profil
 e/MartinHorswood
ATTACH;FMTTYPE="image/jpeg":http://storage.ning.com/topology/rest/1.0/
 file/get/2591375516?profile=original
ATTENDEE;ROLE=REQ-PARTICIPANT;PARTSTAT=ACCEPTED;RSVP=TRUE;CN="Martin H
 orswood":https://networkinginsurrey.co.uk/profile/MartinHorswood
END:VEVENT
END:VCALENDAR
