BEGIN:VCALENDAR
PRODID:NingEventWidget-v1
VERSION:2.0
METHOD:PUBLISH
BEGIN:VTIMEZONE
TZID:Europe/London
X-LIC-LOCATION:Europe/London
BEGIN:DAYLIGHT
TZOFFSETFROM:+0000
TZOFFSETTO:+0100
TZNAME:BST
DTSTART:19700329T010000
RRULE:FREQ=YEARLY;BYMONTH=3;BYDAY=-1SU
END:DAYLIGHT
BEGIN:STANDARD
TZOFFSETFROM:+0100
TZOFFSETTO:+0000
TZNAME:GMT
DTSTART:19701025T020000
RRULE:FREQ=YEARLY;BYMONTH=10;BYDAY=-1SU
END:STANDARD
END:VTIMEZONE
BEGIN:VEVENT
UID:4626108:Event:47099
DTSTAMP:20260426T010206Z
SUMMARY:Surrey Business Club Members BBQ Evening, Rudwick
DESCRIPTION:Final call for our annual BBQ on Wednesday, September 5th.
  \nUnfortunately this event is a 'closed shop' for current SBC membe
 rs & their partners but all previous SBC members are welcome to reques
 t an invitation to join us - who knows, it may be our final BBQ!!\nPle
 ase text Ian Hamilton for an invitation if you fall into either catego
 ry on: (07583) 845057 as we would really like to see you there!\n\nFor
  more information visit https://networkinginsurrey.co.uk/events/462610
 8:Event:47099
DTSTART;TZID=Europe/London:20120905T180000
DTEND;TZID=Europe/London:20120905T220000
CATEGORIES:bbq, evening, rudgwick
LOCATION:tba
WEBSITE:http://tba
URL:http://tba
CONTACT:tba
ORGANIZER;CN="Lord Hamilton of Glencoe":https://networkinginsurrey.co.
 uk/profile/BrianIanHamilton
ATTACH;FMTTYPE="image/jpeg":http://storage.ning.com/topology/rest/1.0/
 file/get/2591374362?profile=original
ATTENDEE;ROLE=REQ-PARTICIPANT;PARTSTAT=ACCEPTED;RSVP=TRUE;CN="Lord Ham
 ilton of Glencoe":https://networkinginsurrey.co.uk/profile/BrianIanHam
 ilton
END:VEVENT
END:VCALENDAR
