BEGIN:VCALENDAR
PRODID:NingEventWidget-v1
VERSION:2.0
METHOD:PUBLISH
BEGIN:VTIMEZONE
TZID:Europe/London
X-LIC-LOCATION:Europe/London
BEGIN:DAYLIGHT
TZOFFSETFROM:+0000
TZOFFSETTO:+0100
TZNAME:BST
DTSTART:19700329T010000
RRULE:FREQ=YEARLY;BYMONTH=3;BYDAY=-1SU
END:DAYLIGHT
BEGIN:STANDARD
TZOFFSETFROM:+0100
TZOFFSETTO:+0000
TZNAME:GMT
DTSTART:19701025T020000
RRULE:FREQ=YEARLY;BYMONTH=10;BYDAY=-1SU
END:STANDARD
END:VTIMEZONE
BEGIN:VEVENT
UID:4626108:Event:732
DTSTAMP:20260425T220029Z
SUMMARY:4 Walls & Ecademy Property and Social Media Evening, Guildford
DESCRIPTION:4 Walls Networking - Business blogging mistakes and how to
  avoid them\n\n\nYou are cordially invited to join us for another grea
 t evening of education and networking to help you build your network a
 nd improve your business skills. This month's presentation by Vanessa 
 Warwick of 4wallsandaceiling is titled: \"Business blogging mistakes a
 nd how to avoid them\" Vanessa will be helping you increase your knowl
 edge of how to create a compelling and content-rich blog that stands o
 ut from the crowd and helps you become known as an expert in your indu
 stry. It is widely believed that, in order to be considered an authori
 ty in whatever you do, it is vital to have a long running and popular 
 blog. Vanessa will show you how tonight and give you some pointers as 
 to thinking laterally to create compelling content that earns reader's
  continued attention. For more background on the topic, check out Vane
 ssa's blog post on video blogging here on Networkingin Surrey...\n\nBO
 OK HERE £10.00 in advance. Please pay below by clicking on the button
 .\n\n\n£15.00 on the door on the night. Parking is ample and free.\nM
 AP-------------------------\n\n4 Walls and A Ceiling was founded by hu
 sband and wife duo and full time professional Landlords, Vanessa Warwi
 ck and Nick Tadd. They are also both passionate advocates and expert p
 ractitioners of social media in all its manifestations, and provide co
 nsultancy services in 'online findability' to companies and organisati
 ons large and small, in the UK and beyond. For a lesson in findability
 , simpy type either or both their names into Google!\n\nFor more infor
 mation visit https://networkinginsurrey.co.uk/events/4-walls-ecademy-p
 roperty-and
DTSTART;TZID=Europe/London:20100223T183000
DTEND;TZID=Europe/London:20100223T213000
CATEGORIES:seminar, evening, guildford, training
LOCATION:Holiday Inn, Guildford
WEBSITE:http://www.4wallsandaceiling.com/
URL:http://www.4wallsandaceiling.com/
CONTACT:07767 370429
ORGANIZER:Vanessa Warwick, 4wallsandaceiling
ATTACH;FMTTYPE="image/jpeg":http://storage.ning.com/topology/rest/1.0/
 file/get/2591377453?profile=original
ATTENDEE;ROLE=REQ-PARTICIPANT;PARTSTAT=ACCEPTED;RSVP=TRUE;CN="Vivien W
 hite":https://networkinginsurrey.co.uk/profile/VivienWhite
ATTENDEE;ROLE=REQ-PARTICIPANT;PARTSTAT=ACCEPTED;RSVP=TRUE;CN="Keith Gr
 over, NiS Founder":https://networkinginsurrey.co.uk/profile/KeithGrove
 r
END:VEVENT
END:VCALENDAR
