BEGIN:VCALENDAR
PRODID:NingEventWidget-v1
VERSION:2.0
METHOD:PUBLISH
BEGIN:VTIMEZONE
TZID:Europe/London
X-LIC-LOCATION:Europe/London
BEGIN:DAYLIGHT
TZOFFSETFROM:+0000
TZOFFSETTO:+0100
TZNAME:BST
DTSTART:19700329T010000
RRULE:FREQ=YEARLY;BYMONTH=3;BYDAY=-1SU
END:DAYLIGHT
BEGIN:STANDARD
TZOFFSETFROM:+0100
TZOFFSETTO:+0000
TZNAME:GMT
DTSTART:19701025T020000
RRULE:FREQ=YEARLY;BYMONTH=10;BYDAY=-1SU
END:STANDARD
END:VTIMEZONE
BEGIN:VEVENT
UID:4626108:Event:48772
DTSTAMP:20260422T041358Z
SUMMARY:Morning Marketing Workshop, Godalming
DESCRIPTION:4 Steps to becoming a a KILLER marketer!\r\n\r\nWould bein
 g a KILLER marketer make all the difference to your business growth?\r
 \nCan you, hand on heart, say that you are making the most of every ma
 rketing opportunity?Â Or are you leaving money sitting on the tableÂ -
  money which would make a BIG difference to your business, you - and y
 our lifestyle!\r\nI'm Vanessa Lanham-Day and I'm theÂ Entrepreneur's C
 ircleÂ Business Growth AdvisorÂ for South Surrey, Sutton & Epsom and I
  really hope I can tempt you to come along to this excellent event nea
 r Guildford later this month - on 31st October.\r\nIn this taster sess
 ion, I share with youÂ 4 key strategiesÂ that will set you on the righ
 t path and Â get youÂ thinking - and ACTING - like a killer marketer.Â
  And in the current marketplace, when a lot of your competitors are si
 mply following the crowd - or have even given up with marketing - you'
 ll stand out.\r\nCOST: Â£39.50\r\nBOOKING: Please CLICK HEREÂ to find 
 out more and to bookÂ \r\nEARLYBIRD DISCOUNT! You'll get 50% off the f
 ull price ticket if you book before October 21st!\r\nMAP\r\n\n\nFor mo
 re information visit https://networkinginsurrey.co.uk/events/4-steps-t
 o-becoming-a-a-killer-marketer
DTSTART;TZID=Europe/London:20121031T090000
DTEND;TZID=Europe/London:20121031T113000
CATEGORIES:business, training, and, coaching
LOCATION:The Manor House
WEBSITE:
URL:
CONTACT:01483 862605
ORGANIZER;CN="Vanessa Lanham-Day":https://networkinginsurrey.co.uk/pro
 file/VanessaLanhamDay
ATTACH;FMTTYPE="image/jpeg":http://storage.ning.com/topology/rest/1.0/
 file/get/2591412173?profile=original
ATTENDEE;ROLE=REQ-PARTICIPANT;PARTSTAT=ACCEPTED;RSVP=TRUE;CN="Vanessa 
 Lanham-Day":https://networkinginsurrey.co.uk/profile/VanessaLanhamDay
END:VEVENT
END:VCALENDAR
