BEGIN:VCALENDAR
PRODID:NingEventWidget-v1
VERSION:2.0
METHOD:PUBLISH
BEGIN:VTIMEZONE
TZID:Europe/London
X-LIC-LOCATION:Europe/London
BEGIN:DAYLIGHT
TZOFFSETFROM:+0000
TZOFFSETTO:+0100
TZNAME:BST
DTSTART:19700329T010000
RRULE:FREQ=YEARLY;BYMONTH=3;BYDAY=-1SU
END:DAYLIGHT
BEGIN:STANDARD
TZOFFSETFROM:+0100
TZOFFSETTO:+0000
TZNAME:GMT
DTSTART:19701025T020000
RRULE:FREQ=YEARLY;BYMONTH=10;BYDAY=-1SU
END:STANDARD
END:VTIMEZONE
BEGIN:VEVENT
UID:4626108:Event:14707
DTSTAMP:20260422T203454Z
SUMMARY:4 Networking Breakfast, Chessington
DESCRIPTION:4Networking Breakfast at The Monkey Puzzle\n\nCome along t
 his Thursday to welcome the new team running Chessington 4N!\n Our 4
 sight Speaker is the lovely Paullette Schwartz (Ideal Hearts) with her
  presentation - Confidence Killers.Pallette will tell us how we need t
 o act successful if we want to be successful by managging our confiden
 ce killers! Great venue, good breakfast choices and seats for all.\nDo
 n't forget to bring your business cards and any special offers.\nCOST:
  £10.00 per person including breakfast \nMEMBERS BOOK HERE\nWant to
  attend as a Visitor? Please call Sam Millard on 01737 379 395 or emai
 l me info@greengages.co.uk to get booked in. See you there!\nMAP\nNon-
 members can register for FREE online membership to come along for a tr
 ial meeting and enjoy 'the 4Networking experience' - give it a go!\n--
 --------------------------------------\n4Networking has 24,000 members
  and 200 linked breakfast groups around the country. Following breakfa
 st and the 4Sight speaker, you'll then have 3, 10 minute appointments.
  These 1-1s work brilliantly and allow you to fast track new business 
 relationships. The group has an unstuffy culture, people attend becaus
 e they want to, not because they have to. Members can attend any group
  in the country and anyone is welcome. See details on our website www.
 4networking.biz\n\nFor more information visit https://networkinginsurr
 ey.co.uk/events/4-networking-breakfast
DTSTART;TZID=Europe/London:20110421T080000
DTEND;TZID=Europe/London:20110421T100000
CATEGORIES:breakfast, chessingston, 4networking, business_networking
LOCATION:The Monkey Puzzle KT9 2NE
WEBSITE:http://www.4networking.biz
URL:http://www.4networking.biz
CONTACT:01737 379 395
ORGANIZER;CN="Sam Millard":https://networkinginsurrey.co.uk/profile/Sa
 mMillard
ATTACH;FMTTYPE="image/jpeg":http://storage.ning.com/topology/rest/1.0/
 file/get/2591378259?profile=original
ATTENDEE;ROLE=REQ-PARTICIPANT;PARTSTAT=ACCEPTED;RSVP=TRUE;CN="Sam Mill
 ard":https://networkinginsurrey.co.uk/profile/SamMillard
END:VEVENT
END:VCALENDAR
