BEGIN:VCALENDAR
PRODID:NingEventWidget-v1
VERSION:2.0
METHOD:PUBLISH
BEGIN:VTIMEZONE
TZID:Europe/London
X-LIC-LOCATION:Europe/London
BEGIN:DAYLIGHT
TZOFFSETFROM:+0000
TZOFFSETTO:+0100
TZNAME:BST
DTSTART:19700329T010000
RRULE:FREQ=YEARLY;BYMONTH=3;BYDAY=-1SU
END:DAYLIGHT
BEGIN:STANDARD
TZOFFSETFROM:+0100
TZOFFSETTO:+0000
TZNAME:GMT
DTSTART:19701025T020000
RRULE:FREQ=YEARLY;BYMONTH=10;BYDAY=-1SU
END:STANDARD
END:VTIMEZONE
BEGIN:VEVENT
UID:4626108:Event:70215
DTSTAMP:20260420T051703Z
SUMMARY:4 Networking Breakfast, Staines-upon-Thames
DESCRIPTION:\nCome along to our dynamic, fresh, unstuffy networking g
 roup where you can find prospects, locate suppliers, get business ad
 vice & support and make new friends.\nMeeting every fortnight you ha
 ve the opportunity to promote your business in 40 seconds, have three 
 10 minute 1to1 appointments with other attendees that you choose and e
 njoy an excellent breakfast.\nWe also have a short talk given by a mem
 ber on a useful or interesting subject.\n\nThe talk at this meeting is
  from Mark Michelmore who will be talking about how to have a relaxed
  approach to a Healthy Lifestyle.\nRemember to bring your business car
 ds and marketing material and, if you sell products, bring some sample
 s for us to see.\nCOST: £12 (cash only please!)\nBOOKING: Please 
 BOOK HERE or contact Marvin Winthrop (marvin@staines.thezipyard.co.u
 k).\nMAP\nThere is plenty of parking - use the Hotel's private car par
 k is at the rear of the hotel\n\n\nFor more information visit https://
 networkinginsurrey.co.uk/events/4-networking-breakfast-meeting-staines
 -upon-thames-wednesday-7th
DTSTART;TZID=Europe/London:20150107T080000
DTEND;TZID=Europe/London:20150107T100000
CATEGORIES:breakfast, networking, business, event
LOCATION:Boleyn Hotel
WEBSITE:http://www.4networking.biz/Events/Details/53594
URL:http://www.4networking.biz/Events/Details/53594
CONTACT:07803 706440
ORGANIZER;CN="Mike Wylie":https://networkinginsurrey.co.uk/profile/Mik
 eWylie
ATTACH;FMTTYPE="image/jpeg":http://storage.ning.com/topology/rest/1.0/
 file/get/2591382421?profile=original
ATTENDEE;ROLE=REQ-PARTICIPANT;PARTSTAT=ACCEPTED;RSVP=TRUE;CN="Mike Wyl
 ie":https://networkinginsurrey.co.uk/profile/MikeWylie
END:VEVENT
END:VCALENDAR
