BEGIN:VCALENDAR
PRODID:NingEventWidget-v1
VERSION:2.0
METHOD:PUBLISH
BEGIN:VTIMEZONE
TZID:Europe/London
X-LIC-LOCATION:Europe/London
BEGIN:DAYLIGHT
TZOFFSETFROM:+0000
TZOFFSETTO:+0100
TZNAME:BST
DTSTART:19700329T010000
RRULE:FREQ=YEARLY;BYMONTH=3;BYDAY=-1SU
END:DAYLIGHT
BEGIN:STANDARD
TZOFFSETFROM:+0100
TZOFFSETTO:+0000
TZNAME:GMT
DTSTART:19701025T020000
RRULE:FREQ=YEARLY;BYMONTH=10;BYDAY=-1SU
END:STANDARD
END:VTIMEZONE
BEGIN:VEVENT
UID:4626108:Event:82552
DTSTAMP:20260424T211308Z
SUMMARY:FREE Morning Future of Business Seminar, Guildford
DESCRIPTION:2020 Vision: Future Proofing Your Business & Your Career\n
 \nThe world of work is changing and will soon be unrecognisable from w
 hat it is today.Â  On one hand we are told that robots will take our j
 obs, and yet on the other we are told that we will not be able to reti
 re until we reach our late 70â€™s or even 80â€™s.Â \nHow can that be c
 ompatible?Â \nFrom macro trends of urbanisation, demography and life e
 xpectancy to the ever increasing capability of technology, our busines
 ses are facing competition from seemingly everywhere and all at once.Â
   And for employeesâ€¦.. in 5 years there will be 5 billion people wit
 h smart phones accessing Wikipedia and every book ever written; how wi
 ll you compete when there will always be someone cheaper, faster and m
 aybe better than you?\nBusinesses and work as we know it will change s
 ignificantly over the next 5 years, so what will happen and how can we
  future proof our businesses and our careers?Â \nBy connecting the dot
 s in a meaningful way, this seminar will consider these facts and more
 .Â  And for every point made we will show where the future has already
  started to take shape, after all, â€˜the future is already hereâ€¦..â
 €™\nCOST: FREE - but booking is essential please\nBOOKING:Please email
 Â Guildford@tate.co.ukÂ to register and claim your free place\nMAP\nPa
 rking: Ample and free\n\nFor more information visit https://networking
 insurrey.co.uk/events/2020-vision-future-proofing-your-business-your-c
 areer
DTSTART;TZID=Europe/London:20160929T083000
DTEND;TZID=Europe/London:20160929T103000
CATEGORIES:free, breakfast, seminar
LOCATION:Holiday Inn Guildford GU2 7XZ
WEBSITE:
URL:
CONTACT:01483 533 707
ORGANIZER;CN="Roxanne Butcher":https://networkinginsurrey.co.uk/profil
 e/RoxanneButcher
ATTACH;FMTTYPE="image/jpeg":http://storage.ning.com/topology/rest/1.0/
 file/get/2591457374?profile=original
ATTENDEE;ROLE=REQ-PARTICIPANT;PARTSTAT=ACCEPTED;RSVP=TRUE;CN="Roxanne 
 Butcher":https://networkinginsurrey.co.uk/profile/RoxanneButcher
END:VEVENT
END:VCALENDAR
