BEGIN:VCALENDAR
PRODID:NingEventWidget-v1
VERSION:2.0
METHOD:PUBLISH
BEGIN:VTIMEZONE
TZID:Europe/London
X-LIC-LOCATION:Europe/London
BEGIN:DAYLIGHT
TZOFFSETFROM:+0000
TZOFFSETTO:+0100
TZNAME:BST
DTSTART:19700329T010000
RRULE:FREQ=YEARLY;BYMONTH=3;BYDAY=-1SU
END:DAYLIGHT
BEGIN:STANDARD
TZOFFSETFROM:+0100
TZOFFSETTO:+0000
TZNAME:GMT
DTSTART:19701025T020000
RRULE:FREQ=YEARLY;BYMONTH=10;BYDAY=-1SU
END:STANDARD
END:VTIMEZONE
BEGIN:VEVENT
UID:4626108:Event:103509
DTSTAMP:20260424T105648Z
SUMMARY:FREE Lunchtime 1st Friday, Croydon
DESCRIPTION:First Friday Lunchtime Networking at Croydon College\r\n\r
 \nEffective, friendly and free monthly networking group. Now in it's 6
 th year, this is one of the most effective networking groups in Croydo
 n.  \r\nTypically we have 30 - 40 attendees, including  new faces e
 very month. All new businesses arewelcome. \r\nNo registrationv is ne
 cessary, just turn up before 12.00 with plenty of business cards. You
  have the opportunity to introduce yourself and your business to the o
 ther attendees.\r\nThe meeting is 'chaired' by the inimitable Wayne Tr
 ice.\r\nCOST: FREE to attend, buy your own refreshments\r\nBOOKING: No
  need to book \r\nMAP\r\nVENUE \r\nLocated at the Croydon College Ch
 ef's entrance on Park Lane.\n\nFor more information visit https://netw
 orkinginsurrey.co.uk/events/1st-first-friday-croydon
DTSTART;TZID=Europe/London:20190201T120000
DTEND;TZID=Europe/London:20190201T140000
CATEGORIES:open, networking, free, croydon, lunchtime
LOCATION:Croydon College ( Park Lane entrance ) CR9 1DX
WEBSITE:http://www.croydonbusinesshub.co.uk
URL:http://www.croydonbusinesshub.co.uk
CONTACT:07870 568189
ORGANIZER;CN="Ian Harris":https://networkinginsurrey.co.uk/profile/Ian
 Harris
ATTACH;FMTTYPE="image/jpeg":https://storage.ning.com/topology/rest/1.0
 /file/get/891954084?profile=original
ATTENDEE;ROLE=REQ-PARTICIPANT;PARTSTAT=ACCEPTED;RSVP=TRUE;CN="Ian Harr
 is":https://networkinginsurrey.co.uk/profile/IanHarris
END:VEVENT
END:VCALENDAR
