BEGIN:VCALENDAR
PRODID:NingEventWidget-v1
VERSION:2.0
METHOD:PUBLISH
BEGIN:VTIMEZONE
TZID:Europe/London
X-LIC-LOCATION:Europe/London
BEGIN:DAYLIGHT
TZOFFSETFROM:+0000
TZOFFSETTO:+0100
TZNAME:BST
DTSTART:19700329T010000
RRULE:FREQ=YEARLY;BYMONTH=3;BYDAY=-1SU
END:DAYLIGHT
BEGIN:STANDARD
TZOFFSETFROM:+0100
TZOFFSETTO:+0000
TZNAME:GMT
DTSTART:19701025T020000
RRULE:FREQ=YEARLY;BYMONTH=10;BYDAY=-1SU
END:STANDARD
END:VTIMEZONE
BEGIN:VEVENT
UID:4626108:Event:69386
DTSTAMP:20260422T155906Z
SUMMARY:1230 TWC Christmas Lunch, Guildford
DESCRIPTION:The Women's Club Lunch at The Manor House\r\n\r\nNot tried
  us before? Come along, try us out and find out more!\r\nIf you need m
 ore business, more contacts, support, a warm welcome, advice, expertis
 e and to connect with other focused, savvy business women – you’re
  in the right networking place!\r\n1230 TWC is an effective, dynamic n
 etwork of meetings and events where like-minded business women meet to
  inspire, share experiences, strengthen and grow their businesses thro
 ugh building trusted business relationships.\r\nIf you would like to n
 etwork and market your business with other supportive business women, 
 this is for you\r\n\r\nLearn new networking skills and make contacts t
 o help your business grow……..\r\nDiscover the secrets of business 
 success from other entrepreneurs……\r\nDiscover the support readily
  given at 1230 TWC meetings\r\nLearn from workshops, guest speakers an
 d other attendees\r\nWhen you join 1230 TWC, you will become a member 
 of the whole network with far reaching networking opportunities.\r\nHa
 ve your 1 minute talk prepared.\r\n\r\n\r\n1230 TWC Guildford Host is 
 Jane Blackwood\r\nWe look forward to seeing you….\r\nThe Venue  The 
 Manor House is an award-winning conference centre and hotel which offe
 rs excellent meeting facilities and comfortable hotel accommodation in
  the picturesque Surrey Hills. Ample on-site parking\r\nPlease let us 
 know if you have any special dietary requirements.\r\nMeetings are hel
 d on the 1st Thursday of each month\r\nCOST: TWC Members £18, non-me
 mbers £48 including meal\r\nBOOKING: Please CLICK HERE to book your 
 place\r\nMAP \r\n---------------------------------------\r\n1230 TWC  
 Launched in August 2002, 1230 The Women’s Company is the leading bus
 iness women’s network providing on and off-line trading and business
  growth across the UK at local level.\r\nFollow us on Twitter @1230Jac
 kie and “Friend” us on Facebook.\r\n1230KISS is a place for Twitte
 rviews with Jackie Groundsell of 1230 The Women’s Company Follow @12
 30KISS each Friday at 10.30 am to learn more about 1230 TWC Members an
 d Special Guests\n\nFor more information visit https://networkinginsur
 rey.co.uk/events/1230-twc-guildford-4-december-2014
DTSTART;TZID=Europe/London:20141204T120000
DTEND;TZID=Europe/London:20141204T140000
CATEGORIES:business, networking
LOCATION:The Manor House
WEBSITE:http://1230.co.uk/events/1230-twc-guildford-10/
URL:http://1230.co.uk/events/1230-twc-guildford-10/
CONTACT:02086508015
ORGANIZER;CN="Jackie Groundsell":https://networkinginsurrey.co.uk/prof
 ile/JackieGroundsell
ATTACH;FMTTYPE="image/jpeg":http://storage.ning.com/topology/rest/1.0/
 file/get/2591438299?profile=original
ATTENDEE;ROLE=REQ-PARTICIPANT;PARTSTAT=ACCEPTED;RSVP=TRUE;CN="Jackie G
 roundsell":https://networkinginsurrey.co.uk/profile/JackieGroundsell
END:VEVENT
END:VCALENDAR
