BEGIN:VCALENDAR
PRODID:NingEventWidget-v1
VERSION:2.0
METHOD:PUBLISH
BEGIN:VTIMEZONE
TZID:Europe/London
X-LIC-LOCATION:Europe/London
BEGIN:DAYLIGHT
TZOFFSETFROM:+0000
TZOFFSETTO:+0100
TZNAME:BST
DTSTART:19700329T010000
RRULE:FREQ=YEARLY;BYMONTH=3;BYDAY=-1SU
END:DAYLIGHT
BEGIN:STANDARD
TZOFFSETFROM:+0100
TZOFFSETTO:+0000
TZNAME:GMT
DTSTART:19701025T020000
RRULE:FREQ=YEARLY;BYMONTH=10;BYDAY=-1SU
END:STANDARD
END:VTIMEZONE
BEGIN:VEVENT
UID:4626108:Event:3663
DTSTAMP:20260425T162302Z
SUMMARY:1230 The Women's Company Lunch, Esher
DESCRIPTION:1230 The Women's Company Lunch, Esher/h2>\n\n1230 meetings
  are a friendly informal affair where you will be able to promote your
  business while enjoying good company and a delicious buffet. The Eshe
 r meeting is vibrant and productive with members and guests from all w
 alks of life regularly meeting and recommending each others services a
 nd products. Don't take our word for it - come along and see for yours
 elf! Talk to members about how they have increased their profits and s
 ales - its truly inspiring. We look forward to welcoming you soon...\n
 COST: 1230 Members £10, Guests £20\nMAP\n\nFor more information visi
 t https://networkinginsurrey.co.uk/events/1230-the-womens-company-lunc
 h-1
DTSTART;TZID=Europe/London:20100810T123000
DTEND;TZID=Europe/London:20100810T143000
CATEGORIES:lunch, esher, business_networking_surrey
LOCATION:Cafe Piccolo, Esher KT10 9RT
WEBSITE:http://www.1230.co.uk/meetings.asp?meeting=698&month=8
URL:http://www.1230.co.uk/meetings.asp?meeting=698&month=8
CONTACT:020 8224 6150
ORGANIZER:JoJo Dye
ATTACH;FMTTYPE="image/jpeg":http://storage.ning.com/topology/rest/1.0/
 file/get/2591395816?profile=original
ATTENDEE;ROLE=REQ-PARTICIPANT;PARTSTAT=ACCEPTED;RSVP=TRUE;CN="Keith Gr
 over, NiS Founder":https://networkinginsurrey.co.uk/profile/KeithGrove
 r
END:VEVENT
END:VCALENDAR
