BEGIN:VCALENDAR
PRODID:NingEventWidget-v1
VERSION:2.0
METHOD:PUBLISH
BEGIN:VTIMEZONE
TZID:Europe/London
X-LIC-LOCATION:Europe/London
BEGIN:DAYLIGHT
TZOFFSETFROM:+0000
TZOFFSETTO:+0100
TZNAME:BST
DTSTART:19700329T010000
RRULE:FREQ=YEARLY;BYMONTH=3;BYDAY=-1SU
END:DAYLIGHT
BEGIN:STANDARD
TZOFFSETFROM:+0100
TZOFFSETTO:+0000
TZNAME:GMT
DTSTART:19701025T020000
RRULE:FREQ=YEARLY;BYMONTH=10;BYDAY=-1SU
END:STANDARD
END:VTIMEZONE
BEGIN:VEVENT
UID:4626108:Event:75751
DTSTAMP:20260425T233455Z
SUMMARY:1230 The Women's Company Lunch, Guildford
DESCRIPTION:1230 TWC Lunch at Britten's\n\nWant to grow your business?
    Here’s how\nThe Meeting If you need more business, more contact
 s, support, a warm welcome, advice, expertise and to connect with othe
 r focused, savvy business women – you’re in the right place!\n12
 30 TWC is an effective, dynamic network of meetings and events where l
 ike-minded business women meet to inspire, share experiences, strength
 en and grow their businesses through building trusted business relatio
 nships.\nCome try us out!  We look forward to seeing you there.\nCOST
 :First-time Guests £28, 1230 TWC Members £18\nBOOKING: Please CLICK
  HERE to book your place\nMAP\n\nFor more information visit https://n
 etworkinginsurrey.co.uk/events/1230-the-women-s-company-guildford
DTSTART;TZID=Europe/London:20151203T123000
DTEND;TZID=Europe/London:20151203T140000
CATEGORIES:business, networking, lunch-time
LOCATION:Britten's Restaurant GU1 3RT
WEBSITE:http://1230.co.uk/events/1230-twc-guildford-2015-12-03/
URL:http://1230.co.uk/events/1230-twc-guildford-2015-12-03/
CONTACT:020 8650 8015
ORGANIZER:Jackie Groundsell & Susan Maddison
ATTACH;FMTTYPE="image/jpeg":http://storage.ning.com/topology/rest/1.0/
 file/get/2591438299?profile=original
ATTENDEE;ROLE=REQ-PARTICIPANT;PARTSTAT=ACCEPTED;RSVP=TRUE;CN="Jackie G
 roundsell":https://networkinginsurrey.co.uk/profile/JackieGroundsell
END:VEVENT
END:VCALENDAR
